{"text_format":"1","workbook":"xlsx","n_sheets":24,"sheets":["Facesheet","各番号（変更不可）","作成及び申込要領","①役員名簿","②参加人員","③参加料内訳","年齢基準","陸上ドロップダウン","1.陸上","2.バスケ","3.バレー","4.ソフトテニス","5.卓球","6.バド","バド　壮年名簿","7.柔道","8.剣道","9.弓道","相撲　名簿","10.相撲","11.ソフトボール","12.空手道","空手　名簿","13.テニス"],"not_rendered":{"charts":0,"images":0,"macros":1,"external_links":0,"defined_names":34,"comments":0,"pivot_tables":0},"unopened":[],"bounds":{"document_bytes":16777216,"sheet_cells":100000,"rows_first":2000,"rows_last":500,"rows_between":2000,"halvings":0,"cell_chars":16384,"cell_head_chars":4096},"cells_cut":0,"cells_raw":0,"read":"whole","date_system":"1900"}

{"sheet":"Facesheet","index":0,"n_rows":6,"n_cols":2,"rows_kept":6,"cut":false,"hidden":false,"merged":[]}
["初期設定"]
["大会回数",68]
["年齢基準日","2025-04-01"]
["申込締切日","2025-07-29"]
[]
[null,"○"]

{"sheet":"各番号（変更不可）","index":1,"n_rows":41,"n_cols":15,"rows_kept":41,"cut":false,"hidden":true,"merged":[]}
["競技名","番号",1,2,3,4,5,null,"郡市体育・スポーツ協会","郡市","番号"]
["陸上競技",22,"一般","青年・リレー","壮年男子","壮年女子",null,null,"(公財)北九州市スポーツ協会","北九州市",11,null,null,null,12]
["バスケットボール競技",10,"一般男子","一般女子","青年男子","青年女子",null,null,"(公財)福岡市スポーツ協会","福岡市",12]
["バレーボール競技",11,"一般男子","一般女子","青年男子","青年女子","壮年女子",null,"大牟田市体育協会","大牟田市",13]
["ソフトテニス競技",12,"一般","壮年",null,null,null,null,"(公財)久留米市スポーツ協会","久留米市",14]
["卓球競技",13,"一般","青年","壮年",null,null,null,"(一社)直方市体育協会","直方市",15]
["バドミントン競技",14,"一般男子","一般女子","青年","壮年男子","壮年女子",null,"（一社）飯塚市スポーツ協会","飯塚市",16]
["柔道競技",15,"一般","青年",null,null,null,null,"NPO法人田川市スポーツ協会","田川市",17]
["剣道競技",16,"一般男子","一般女子","青年男子","青年女子",null,null,"柳川市体育協会","柳川市",18]
["弓道競技",17,"一般男子","一般女子","青年",null,null,null,"八女市体育協会","八女市",19]
["相撲競技",18,"一般男子","青年男子","個人戦",null,null,null,"筑後市スポーツ協会","筑後市",20]
["ソフトボール競技",19,"一般男子",null,null,null,null,null,"大川市スポーツ協会","大川市",21]
["空手道競技",20,"男子","壮年男子","女子",null,null,null,"行橋市体育協会","行橋市",22]
["テニス競技",21,"一般",null,null,null,null,null,"豊前市スポーツ協会","豊前市",23]
[null,null,null,null,null,null,null,null,"（一社）中間市スポーツ協会","中間市",24]
[null,null,null,null,null,null,null,null,"(一社）小郡市スポーツ協会","小郡市",25]
[null,null,null,null,null,null,null,null,"(一社)筑紫野市体育協会","筑紫野市",26]
[null,null,null,null,null,null,null,null,"(一社)春日市スポーツ協会","春日市",27]
[null,null,null,null,null,null,null,null,"(公財)大野城市スポーツ協会","大野城市",28]
[null,null,null,null,null,null,null,null,"(一社)宗像市スポーツ協会","宗像市",29]
[null,null,null,null,null,null,null,null,"(一社)太宰府市スポーツ協会","太宰府市",30]
[null,null,null,null,null,null,null,null,"NPO法人古賀市スポーツ協会","古賀市",31]
[null,null,null,null,null,null,null,null,"福津市体育協会","福津市",32]
[null,null,null,null,null,null,null,null,"うきは市スポーツ協会","うきは市",33]
[null,null,null,null,null,null,null,null,"宮若市体育協会","宮若市",34]
[null,null,null,null,null,null,null,null,"嘉麻市スポーツ協会","嘉麻市",35]
[null,null,null,null,null,null,null,null,"朝倉市体育協会","朝倉市",36]
[null,null,null,null,null,null,null,null,"みやま市スポーツ協会","みやま市",37]
[null,null,null,null,null,null,null,null,"糸島市スポーツ協会","糸島市",38]
[null,null,null,null,null,null,null,null,"(一社）那珂川市体育協会","那珂川市",39]
[null,null,null,null,null,null,null,null,"糟屋郡スポーツ協会","糟屋郡",40]
[null,null,null,null,null,null,null,null,"遠賀郡体育協会","遠賀郡",41]
[null,null,null,null,null,null,null,null,"鞍手郡体育協会","鞍手郡",42]
[null,null,null,null,null,null,null,null,"嘉穂郡体育協会","嘉穂郡",43]
[null,null,null,null,null,null,null,null,"朝倉郡体育協会","朝倉郡",44]
[null,null,null,null,null,null,null,null,"三井郡体育協会","三井郡",45]
[null,null,null,null,null,null,null,null,"三潴郡体育協会","三潴郡",46]
[null,null,null,null,null,null,null,null,"八女郡スポーツ協会","八女郡",47]
[null,null,null,null,null,null,null,null,"田川郡社会体育振興協会","田川郡",48]
[null,null,null,null,null,null,null,null,"京都郡スポーツ協会","京都郡",49]
[null,null,null,null,null,null,null,null,"築上郡スポーツ協会","築上郡",50]

{"sheet":"作成及び申込要領","index":2,"n_rows":38,"n_cols":22,"rows_kept":38,"cut":false,"hidden":false,"merged":[[37,16,37,23],[36,2,36,3],[36,4,36,5],[36,6,36,8],[36,9,36,10],[36,11,36,13],[36,16,36,23],[37,2,37,3],[37,4,37,5],[37,6,37,8],[37,9,37,10],[37,11,37,13],[34,16,34,23],[34,14,34,15],[35,2,35,3],[35,4,35,5],[35,6,35,8],[35,9,35,10],[35,11,35,13],[35,14,35,15],[34,2,34,3],[34,4,34,5],[34,6,34,8],[34,9,34,10],[34,11,34,13],[35,16,35,23],[33,11,33,13],[33,16,33,23],[33,14,33,15],[21,1,21,23],[29,1,29,3],[29,4,29,6],[22,10,23,13],[24,1,25,9],[31,8,31,10],[33,2,33,3],[33,4,33,5],[33,6,33,8],[33,9,33,10],[25,21,25,23],[27,1,27,23],[24,21,24,23],[0,0,0,24],[2,0,2,24],[7,0,7,24],[8,0,8,24],[5,0,5,24],[3,0,3,24],[4,0,4,24],[19,0,19,24],[20,0,20,24],[10,0,10,24],[11,0,11,24],[17,0,17,24],[18,0,18,24],[13,0,13,24],[14,0,14,24],[15,0,15,24]]}
["秋季大会参加申込書等作成及び提出要領"]
[]
["１　以下の手順に従い、①〜④の全てのシートに必要事項を入力してください。"]
["２　入力内容を確認し、7月29日（火）までに下記メールアドレス宛にこのファイルを送付してください。"]
["　ただし、その際ファイルにパスワードを設定するなど、個人情報保護にご留意ください。"]
["　また、確認用に原本（印刷したもの）を郵送にて送付してください。"]
[]
["　①「0.役員名簿」"]
[" 　（１）郡市名、会長名、役名・氏名・役職名・保険加入の有無（○か×）を入力する。"]
[]
["　②「1.参加人員」"]
[" 　（１）参加人員数の入力は不要。(郡市名、大会役員、競技別種目別の参加人数、合計は自動計算)"]
[]
["　③「2.参加料内訳書」"]
[" 　（１）代表者の職・氏名を入力する。"]
[" 　（２）申込人数の入力は、不要。（参加人員から自動計算）"]
[]
["　④「陸上」～「テニス」"]
[" 　（１）出場する競技・種別の参加者データを入力する。（下記参照）"]
[" 　（２）参加者のうち、学生・生徒該当者は「学生」欄に○印、在勤地該当者は「在勤地」欄に○印を"]
["　　入力する。(参加基準を満たす者)"]
[null,"※「陸上競技個人申込書」：Web Entryシステムを利用した申込方法で、別途ご案内するサイトから会員登録を行い、申込を行う。自治体ごとのIDとパスワードは、サイトの情報とともに通知するものとする。 　　　　　　　　　　　　　　　　　　　　　　　　　　　　　　　　　　　　　　　　　　　なお、従来の団体申込書の提出も今まで通り行うが、個票の提出は不要。"]
[null,null,null,null,null,null,null,null,null,null,"記 入 例"]
[]
[null,"第68回福岡県民スポーツ大会",null,null,null,null,null,null,null,null,null,null,null,null,null,null,null,null,null,null,null,"申込書 2"]
[]
[]
[null,"バスケットボール競技申込書"]
[]
[null,"郡市名",null,null,"( ○○○ )"]
[]
[null,null,"一般男子の部(区名)",null,null,null,null,null,"○○○区"]
[]
[null,null,null,null,"番号",null,"氏名",null,null,"身長",null,"生年月日",null,null,"年齢",null,"住所"]
[null,null,"監 督",null,null,null,"福岡　一郎",null,null,null,null,"1963-04-29",null,null,59,null,"○○市○○区○○2-1-3"]
[null,null,"選 手",null,10,null,"スポ協 太朗",null,null,184,null,"2001-01-01",null,null,22,null,"○○市○○区○○2-1-4"]
[null,null,"〃"]
[null,null,"〃"]

{"sheet":"①役員名簿","index":3,"n_rows":26,"n_cols":9,"rows_kept":26,"cut":false,"hidden":false,"merged":[[3,0,3,3]]}
[]
[{"$f":"\"第\"&Facesheet!$B$2&\"回福岡県民スポーツ大会\"","v":"第68回福岡県民スポーツ大会"}]
[]
["秋季大会　役員名簿"]
[]
[null,"郡市名","体育・スポーツ協会会長名"]
[]
[]
["役　名","氏　名","役　職　名","保険加入",null,null,null,null,"〇"]
["団　長",null,null,null,null,null,null,null,"×"]
["副団長"]
["副団長"]
["総監督"]
["総　務"]
["総　務"]
["総　務"]
["総　務"]
["総　務"]
["総　務"]
["総　務"]
["総　務"]
["総　務"]
["顧　問"]
["顧　問"]
["顧　問"]
["顧　問"]

{"sheet":"②参加人員","index":4,"n_rows":53,"n_cols":25,"rows_kept":53,"cut":false,"hidden":false,"merged":[[14,24,14,26],[13,24,13,26],[52,0,52,23],[5,18,10,20],[39,21,39,23],[28,18,28,20],[25,0,30,6],[25,12,25,14],[24,15,24,17],[24,18,24,20],[5,12,10,14],[27,12,27,14],[27,15,27,17],[27,18,27,20],[28,7,28,11],[25,15,25,17],[25,18,25,20],[44,0,48,6],[44,7,44,11],[44,12,44,14],[44,15,44,17],[43,0,43,6],[43,7,43,11],[43,12,43,14],[43,15,43,17],[43,18,43,20],[33,21,33,23],[34,21,34,23],[35,21,35,23],[36,21,36,23],[37,21,37,23],[38,21,38,23],[21,21,21,23],[22,21,22,23],[23,21,23,23],[24,21,24,23],[32,18,32,20],[37,18,37,20],[26,24,26,26],[27,24,27,26],[25,24,25,26],[31,24,31,26],[25,21,25,23],[20,21,20,23],[28,21,30,23],[28,24,30,26],[22,24,22,26],[11,24,11,26],[12,24,12,26],[40,0,42,6],[41,7,41,11],[41,12,41,14],[41,15,41,17],[41,18,41,20],[43,21,43,23],[40,21,42,23],[40,24,42,26],[11,21,11,23],[42,7,42,11],[42,12,42,14],[42,15,42,17],[42,18,42,20],[31,0,32,6],[31,7,31,11],[31,12,31,14],[26,21,26,23],[27,21,27,23],[12,21,12,23],[13,21,13,23],[14,21,14,23],[24,24,24,26],[15,21,15,23],[16,21,16,23],[25,7,25,11],[29,18,29,20],[27,7,27,11],[26,7,26,11],[26,12,26,14],[16,24,16,26],[17,7,17,11],[17,12,17,14],[17,15,17,17],[17,18,17,20],[17,24,17,26],[18,24,18,26],[19,7,19,11],[19,12,19,14],[19,15,19,17],[19,18,19,20],[19,24,19,26],[17,21,17,23],[18,21,18,23],[19,21,19,23],[23,24,23,26],[15,24,15,26],[13,7,13,11],[13,12,13,14],[13,15,13,17],[13,18,13,20],[26,15,26,17],[26,18,26,20],[28,12,28,14],[28,15,28,17],[14,15,14,17],[14,18,14,20],[22,15,22,17],[22,18,22,20],[23,7,23,11],[23,12,23,14],[23,15,23,17],[23,18,23,20],[11,0,14,6],[11,7,11,11],[11,12,11,14],[11,15,11,17],[11,18,11,20],[14,7,14,11],[14,12,14,14],[15,0,19,6],[15,7,15,11],[15,12,15,14],[15,15,15,17],[15,18,15,20],[16,7,16,11],[16,12,16,14],[16,15,16,17],[12,7,12,11],[12,12,12,14],[12,15,12,17],[12,18,12,20],[16,18,16,20],[18,7,18,11],[18,12,18,14],[18,15,18,17],[18,18,18,20],[4,24,4,26],[5,7,5,11],[5,15,5,17],[5,0,10,6],[0,24,0,26],[9,7,9,11],[9,15,9,17],[7,7,7,11],[7,15,7,17],[8,7,8,11],[8,15,8,17],[6,7,6,11],[6,15,6,17],[10,7,10,11],[10,15,10,17],[4,21,4,23],[5,24,10,26],[5,21,10,23],[3,1,3,4],[4,0,4,6],[4,7,4,11],[4,12,4,14],[4,15,4,17],[4,18,4,20],[20,0,21,6],[20,7,20,11],[20,12,20,14],[20,15,20,17],[20,18,20,20],[20,24,20,26],[21,7,21,11],[21,12,21,14],[21,15,21,17],[21,18,21,20],[21,24,21,26],[22,0,24,6],[22,7,22,11],[22,12,22,14],[24,7,24,11],[24,12,24,14],[38,12,38,14],[32,7,32,11],[32,12,32,14],[32,15,32,17],[36,15,36,17],[37,0,39,6],[37,7,37,11],[37,12,37,14],[37,15,37,17],[38,7,38,11],[29,7,29,11],[29,12,29,14],[29,15,29,17],[32,24,32,26],[30,7,30,11],[30,12,30,14],[30,15,30,17],[30,18,30,20],[31,21,31,23],[32,21,32,23],[31,15,31,17],[31,18,31,20],[34,24,34,26],[35,7,35,11],[35,12,35,14],[35,15,35,17],[35,18,35,20],[35,24,35,26],[33,0,36,6],[33,7,33,11],[33,12,33,14],[33,15,33,17],[33,18,33,20],[33,24,33,26],[34,7,34,11],[34,12,34,14],[34,15,34,17],[34,18,34,20],[36,18,36,20],[36,24,36,26],[36,7,36,11],[36,12,36,14],[37,24,37,26],[43,24,43,26],[45,7,45,11],[45,12,45,14],[45,15,45,17],[45,18,45,20],[46,7,46,11],[46,12,46,14],[46,15,46,17],[39,7,39,11],[39,12,39,14],[39,15,39,17],[39,18,39,20],[39,24,39,26],[40,7,40,11],[40,12,40,14],[40,15,40,17],[40,18,40,20],[38,15,38,17],[38,18,38,20],[38,24,38,26],[44,18,44,20],[44,21,48,23],[44,24,48,26],[53,0,53,26],[52,24,52,26],[49,24,49,26],[50,0,50,11],[50,12,50,14],[50,15,50,17],[50,18,50,20],[50,24,50,26],[49,0,49,6],[49,7,49,11],[49,12,49,14],[49,15,49,17],[49,18,49,20],[51,0,51,11],[51,12,51,14],[51,15,51,17],[51,18,51,20],[47,18,47,20],[49,21,49,23],[50,21,50,23],[51,21,51,23],[51,24,51,26],[46,18,46,20],[47,7,47,11],[47,12,47,14],[47,15,47,17],[48,7,48,11],[48,12,48,14],[48,15,48,17],[48,18,48,20]]}
[]
[{"$f":"\"第\"&Facesheet!$B$2&\"回福岡県民スポーツ大会\"","v":"第68回福岡県民スポーツ大会"}]
[]
["(",{"$f":"①役員名簿!B7","v":0},null,null,null,")選手団人員"]
["競技名",null,null,null,null,null,null,"種　別",null,null,null,null,"監　督",null,null,"選　手",null,null,"コーチ等",null,null,"兼任・重複",null,null,"計"]
["陸上競技",null,null,null,null,null,null,"一般男子",null,null,null,null,{"$f":"COUNTIF('1.陸上'!C9:C10,\"<>\")","v":0},null,null,{"$f":"COUNTIF('1.陸上'!I11:I70,\"一般男子\")","v":0},null,null,null,null,null,{"$f":"COUNTA('1.陸上'!C9:C70) - SUMPRODUCT(('1.陸上'!C9:C70<>\"\")/COUNTIF('1.陸上'!C9:C70, '1.陸上'!C9:C70 & \"\"))","v":0},null,null,{"$f":"M6+P6+P7+P8+P9+P10+P11-V6","v":0}]
[null,null,null,null,null,null,null,"一般女子",null,null,null,null,null,null,null,{"$f":"COUNTIF('1.陸上'!I11:I70,\"一般女子\")","v":0}]
[null,null,null,null,null,null,null,"青年男子",null,null,null,null,null,null,null,{"$f":"COUNTIF('1.陸上'!I11:I70,\"青年男子\")","v":0}]
[null,null,null,null,null,null,null,"青年女子",null,null,null,null,null,null,null,{"$f":"COUNTIF('1.陸上'!I11:I70,\"青年女子\")","v":0}]
[null,null,null,null,null,null,null,"壮年男子",null,null,null,null,null,null,null,{"$f":"COUNTIF('1.陸上'!I11:I70,\"壮年男子\")","v":0}]
[null,null,null,null,null,null,null,"壮年女子",null,null,null,null,null,null,null,{"$f":"COUNTIF('1.陸上'!I11:I70,\"壮年女子\")","v":0}]
["バスケットボール",null,null,null,null,null,null,"一般男子",null,null,null,null,{"$f":"COUNTIF('2.バスケ'!C9,\"<>\")","v":0},null,null,{"$f":"COUNTIF('2.バスケ'!C10:C21,\"<>\")","v":0},null,null,{"$f":"COUNTIF('2.バスケ'!C22:C23,\"<>\")","v":0},null,null,{"$f":"COUNTA('2.バスケ'!C9:C23) - SUMPRODUCT(('2.バスケ'!C9:C23<>\"\")/COUNTIF('2.バスケ'!C9:C23, '2.バスケ'!C9:C23 & \"\"))","v":0},null,null,{"$f":"M12+P12+S12-V12","v":0}]
[null,null,null,null,null,null,null,"一般女子",null,null,null,null,{"$f":"COUNTIF('2.バスケ'!C29,\"<>\")","v":0},null,null,{"$f":"COUNTIF('2.バスケ'!C30:C41,\"<>\")","v":0},null,null,{"$f":"COUNTIF('2.バスケ'!C42:C43,\"<>\")","v":0},null,null,{"$f":"COUNTA('2.バスケ'!C29:C43) - SUMPRODUCT(('2.バスケ'!C29:C43<>\"\")/COUNTIF('2.バスケ'!C29:C43, '2.バスケ'!C29:C43 & \"\"))","v":0},null,null,{"$f":"M13+P13+S13-V13","v":0}]
[null,null,null,null,null,null,null,"青年男子",null,null,null,null,{"$f":"COUNTIF('2.バスケ'!C48,\"<>\")","v":0},null,null,{"$f":"COUNTIF('2.バスケ'!C49:C60,\"<>\")","v":0},null,null,{"$f":"COUNTIF('2.バスケ'!C61:C62,\"<>\")","v":0},null,null,{"$f":"COUNTA('2.バスケ'!C48:C62) - SUMPRODUCT(('2.バスケ'!C48:C62<>\"\")/COUNTIF('2.バスケ'!C48:C62, '2.バスケ'!C48:C62 & \"\"))","v":0},null,null,0]
[null,null,null,null,null,null,null,"青年女子",null,null,null,null,{"$f":"COUNTIF('2.バスケ'!C68,\"<>\")","v":0},null,null,{"$f":"COUNTIF('2.バスケ'!C69:C80,\"<>\")","v":0},null,null,{"$f":"COUNTIF('2.バスケ'!C81:C82,\"<>\")","v":0},null,null,{"$f":"COUNTA('2.バスケ'!C68:C82) - SUMPRODUCT(('2.バスケ'!C68:C82<>\"\")/COUNTIF('2.バスケ'!C68:C82, '2.バスケ'!C68:C82 & \"\"))","v":0},null,null,0]
["バレーボール",null,null,null,null,null,null,"一般男子",null,null,null,null,{"$f":"COUNTIF('3.バレー'!C9,\"<>\")","v":0},null,null,{"$f":"COUNTIF('3.バレー'!C10:C24,\"<>\")","v":0},null,null,{"$f":"COUNTIF('3.バレー'!C25:C26,\"<>\")","v":0},null,null,{"$f":"COUNTA('3.バレー'!C9:C26) - SUMPRODUCT(('3.バレー'!C9:C26<>\"\")/COUNTIF('3.バレー'!C9:C26, '3.バレー'!C9:C26 & \"\"))","v":0},null,null,{"$f":"M16+P16+S16-V16","v":0}]
[null,null,null,null,null,null,null,"一般女子",null,null,null,null,{"$f":"COUNTIF('3.バレー'!C32,\"<>\")","v":0},null,null,{"$f":"COUNTIF('3.バレー'!C33:C47,\"<>\")","v":0},null,null,{"$f":"COUNTIF('3.バレー'!C48:C49,\"<>\")","v":0},null,null,{"$f":"COUNTA('3.バレー'!C32:C49) - SUMPRODUCT(('3.バレー'!C32:C49<>\"\")/COUNTIF('3.バレー'!C32:C49, '3.バレー'!C32:C49 & \"\"))","v":0},null,null,{"$f":"M17+P17+S17-V17","v":0}]
[null,null,null,null,null,null,null,"青年男子",null,null,null,null,{"$f":"COUNTIF('3.バレー'!C54,\"<>\")","v":0},null,null,{"$f":"COUNTIF('3.バレー'!C55:C69,\"<>\")","v":0},null,null,{"$f":"COUNTIF('3.バレー'!C70:C71,\"<>\")","v":0},null,null,{"$f":"COUNTA('3.バレー'!C54:C71) - SUMPRODUCT(('3.バレー'!C54:C71<>\"\")/COUNTIF('3.バレー'!C54:C71, '3.バレー'!C54:C71& \"\"))","v":0},null,null,0]
[null,null,null,null,null,null,null,"青年女子",null,null,null,null,{"$f":"COUNTIF('3.バレー'!C77,\"<>\")","v":0},null,null,{"$f":"COUNTIF('3.バレー'!C78:C92,\"<>\")","v":0},null,null,{"$f":"COUNTIF('3.バレー'!C93:C94,\"<>\")","v":0},null,null,{"$f":"COUNTA('3.バレー'!C77:C94) - SUMPRODUCT(('3.バレー'!C77:C94<>\"\")/COUNTIF('3.バレー'!C77:C94, '3.バレー'!C77:C94& \"\"))","v":0},null,null,0]
[null,null,null,null,null,null,null,"壮年女子",null,null,null,null,{"$f":"COUNTIF('3.バレー'!C100,\"<>\")","v":0},null,null,{"$f":"COUNTIF('3.バレー'!C101:C112,\"<>\")","v":0},null,null,{"$f":"COUNTIF('3.バレー'!C113:C114,\"<>\")","v":0},null,null,{"$f":"COUNTA('3.バレー'!C100:C114) - SUMPRODUCT(('3.バレー'!C100:C114<>\"\")/COUNTIF('3.バレー'!C100:C114, '3.バレー'!C100:C114& \"\"))","v":0},null,null,0]
["ソフトテニス",null,null,null,null,null,null,"一般",null,null,null,null,{"$f":"COUNTIF('4.ソフトテニス'!C9,\"<>\")","v":0},null,null,{"$f":"COUNTIF('4.ソフトテニス'!C10:C17,\"<>\")","v":0},null,null,null,null,null,{"$f":"COUNTA('4.ソフトテニス'!C9:C17) - SUMPRODUCT(('4.ソフトテニス'!C9:C17<>\"\")/COUNTIF('4.ソフトテニス'!C9:C17, '4.ソフトテニス'!C9:C17& \"\"))","v":0},null,null,0]
[null,null,null,null,null,null,null,"壮年(公開競技)",null,null,null,null,{"$f":"COUNTIF('4.ソフトテニス'!C22,\"<>\")+COUNTIF('4.ソフトテニス'!C36,\"<>\")+COUNTIF('4.ソフトテニス'!C49,\"<>\")+COUNTIF('4.ソフトテニス'!C62,\"<>\")","v":0},null,null,{"$f":"COUNTIF('4.ソフトテニス'!C23:C30,\"<>\")+COUNTIF('4.ソフトテニス'!C37:C44,\"<>\")+COUNTIF('4.ソフトテニス'!C50:C57,\"<>\")+COUNTIF('4.ソフトテニス'!C63:C70,\"<>\")","v":0},null,null,null,null,null,{"$f":"COUNTA('4.ソフトテニス'!C22:C30)-SUMPRODUCT(('4.ソフトテニス'!C22:C30<>\"\")/COUNTIF('4.ソフトテニス'!C22:C30,'4.ソフトテニス'!C22:C30&\"\"))+COUNTA('4.ソフトテニス'!C36:C44)-SUMPRODUCT(('4.ソフトテニス'!C36:C44<>\"\")/COUNTIF('4.ソフトテニス'!C36:C44,'4.ソフトテニス'!C36:C44&\"\"))+COUNTA('4.ソフトテニス'!C49:C57)-SUMPRODUCT(('4.ソフトテニス'!C49:C57<>\"\")/COUNTIF('4.ソフトテニス'!C49:C57,'4.ソフトテニス'!C49:C57&\"\"))+COUNTA('4.ソフトテニス'!C62:C70)-SUMPRODUCT(('4.ソフトテニス'!C62:C70<>\"\")/COUNTIF('4.ソフトテニス'!C62:C70,'4.ソフトテニス'!C62:C70&\"\"))","v":0},null,null,0]
["卓球",null,null,null,null,null,null,"一般",null,null,null,null,{"$f":"COUNTIF('5.卓球'!B9,\"<>\")","v":0},null,null,{"$f":"COUNTIF('5.卓球'!B10:B15,\"<>\")","v":0},null,null,null,null,null,{"$f":"COUNTA('5.卓球'!B9:B15) - SUMPRODUCT(('5.卓球'!B9:B15<>\"\")/COUNTIF('5.卓球'!B9:B15,'5.卓球'!B9:B15& \"\"))","v":0},null,null,0]
[null,null,null,null,null,null,null,"青年",null,null,null,null,{"$f":"COUNTIF('5.卓球'!B21,\"<>\")","v":0},null,null,{"$f":"COUNTIF('5.卓球'!B22:B27,\"<>\")","v":0},null,null,null,null,null,{"$f":"COUNTA('5.卓球'!B21:B27) - SUMPRODUCT(('5.卓球'!B21:B27<>\"\")/COUNTIF('5.卓球'!B21:B27,'5.卓球'!B21:B27& \"\"))","v":0},null,null,0]
[null,null,null,null,null,null,null,"壮年",null,null,null,null,{"$f":"COUNTIF('5.卓球'!B34,\"<>\")","v":0},null,null,{"$f":"COUNTIF('5.卓球'!B35:B42,\"<>\")","v":0},null,null,null,null,null,{"$f":"COUNTA('5.卓球'!B34:B42) - SUMPRODUCT(('5.卓球'!B34:B42<>\"\")/COUNTIF('5.卓球'!B34:B42,'5.卓球'!B34:B42& \"\"))","v":0},null,null,0]
["バドミントン",null,null,null,null,null,null,"一般男子",null,null,null,null,{"$f":"COUNTIF('6.バド'!B9,\"<>\")","v":0},null,null,{"$f":"COUNTIF('6.バド'!B10:B15,\"<>\")","v":0},null,null,null,null,null,{"$f":"COUNTA('6.バド'!B9:B15) - SUMPRODUCT(('6.バド'!B9:B15<>\"\")/COUNTIF('6.バド'!B9:B15,'6.バド'!B9:B15& \"\"))","v":0},null,null,0]
[null,null,null,null,null,null,null,"一般女子",null,null,null,null,{"$f":"COUNTIF('6.バド'!B22,\"<>\")","v":0},null,null,{"$f":"COUNTIF('6.バド'!B23:B29,\"<>\")","v":0},null,null,null,null,null,{"$f":"COUNTA('6.バド'!B22:B29) - SUMPRODUCT(('6.バド'!B22:B29<>\"\")/COUNTIF('6.バド'!B22:B29,'6.バド'!B22:B29& \"\"))","v":0},null,null,0]
[null,null,null,null,null,null,null,"青年",null,null,null,null,{"$f":"COUNTIF('6.バド'!B36,\"<>\")","v":0},null,null,{"$f":"COUNTIF('6.バド'!B37:B42,\"<>\")","v":0},null,null,null,null,null,{"$f":"COUNTA('6.バド'!B36:B42) - SUMPRODUCT(('6.バド'!B36:B42<>\"\")/COUNTIF('6.バド'!B36:B42,'6.バド'!B36:B42& \"\"))","v":0},null,null,0]
[null,null,null,null,null,null,null,"壮年男子",null,null,null,null,{"$f":"COUNTIF('6.バド'!B48,\"<>\")","v":0},null,null,{"$f":"COUNTIF('6.バド'!B49:B55,\"<>\")","v":0},null,null,null,null,null,{"$f":"SUMPRODUCT(('バド　壮年名簿'!D5:D27<>\"\") * 1) - SUMPRODUCT(('バド　壮年名簿'!D5:D27<>\"\") / COUNTIF('バド　壮年名簿'!D5:D27, 'バド　壮年名簿'!D5:D27))","v":0},null,null,{"$f":"M29+P29+M30+P30+M31+P31-V29","v":0}]
[null,null,null,null,null,null,null,"壮年女子",null,null,null,null,{"$f":"COUNTIF('6.バド'!B61,\"<>\")","v":0},null,null,{"$f":"COUNTIF('6.バド'!B62:B68,\"<>\")","v":0}]
[null,null,null,null,null,null,null,"壮年混成男女",null,null,null,null,{"$f":"COUNTIF('6.バド'!B74,\"<>\")","v":0},null,null,{"$f":"COUNTIF('6.バド'!B75:B80,\"<>\")","v":0}]
["柔道",null,null,null,null,null,null,"一般男子",null,null,null,null,{"$f":"COUNTIF('7.柔道'!C9,\"<>\")","v":0},null,null,{"$f":"COUNTIF('7.柔道'!C10:C14,\"<>\")","v":0},null,null,null,null,null,{"$f":"COUNTA('7.柔道'!C9:C14) - SUMPRODUCT(('7.柔道'!C9:C14<>\"\")/COUNTIF('7.柔道'!C9:C14,'7.柔道'!C9:C14& \"\"))","v":0},null,null,0]
[null,null,null,null,null,null,null,"青年男子",null,null,null,null,{"$f":"COUNTIF('7.柔道'!C24,\"<>\")+COUNTIF('7.柔道'!C40,\"<>\")+COUNTIF('7.柔道'!C53,\"<>\")+COUNTIF('7.柔道'!C66,\"<>\")","v":0},null,null,{"$f":"COUNTIF('7.柔道'!C25:C29,\"<>\")+COUNTIF('7.柔道'!C41:C45,\"<>\")+COUNTIF('7.柔道'!C54:C56,\"<>\")+COUNTIF('7.柔道'!C67:C69,\"<>\")","v":0},null,null,null,null,null,{"$f":"COUNTA('7.柔道'!C24:C29)-SUMPRODUCT(('7.柔道'!C24:C29<>\"\")/COUNTIF('7.柔道'!C24:C29,'7.柔道'!C24:C29&\"\"))+COUNTA('7.柔道'!C40:C45)-SUMPRODUCT(('7.柔道'!C40:C45<>\"\")/COUNTIF('7.柔道'!C40:C45,'7.柔道'!C40:C45&\"\"))+COUNTA('7.柔道'!C53:C56)-SUMPRODUCT(('7.柔道'!C53:C56<>\"\")/COUNTIF('7.柔道'!C53:C56,'7.柔道'!C53:C56&\"\"))+COUNTA('7.柔道'!C66:C69)-SUMPRODUCT(('7.柔道'!C66:C69<>\"\")/COUNTIF('7.柔道'!C66:C69,'7.柔道'!C66:C69&\"\"))","v":0},null,null,0]
["剣道",null,null,null,null,null,null,"一般男子",null,null,null,null,{"$f":"COUNTIF('8.剣道'!C9,\"<>\")","v":0},null,null,{"$f":"COUNTIF('8.剣道'!C10:C14,\"<>\")","v":0},null,null,null,null,null,{"$f":"COUNTA('8.剣道'!C9:C14) - SUMPRODUCT(('8.剣道'!C9:C14<>\"\")/COUNTIF('8.剣道'!C9:C14,'8.剣道'!C9:C14& \"\"))","v":0},null,null,0]
[null,null,null,null,null,null,null,"一般女子",null,null,null,null,{"$f":"COUNTIF('8.剣道'!C20,\"<>\")","v":0},null,null,{"$f":"COUNTIF('8.剣道'!C21:C23,\"<>\")","v":0},null,null,null,null,null,{"$f":"COUNTA('8.剣道'!C20:C23) - SUMPRODUCT(('8.剣道'!C20:C23<>\"\")/COUNTIF('8.剣道'!C20:C23,'8.剣道'!C20:C23& \"\"))","v":0},null,null,0]
[null,null,null,null,null,null,null,"青年男子",null,null,null,null,{"$f":"COUNTIF('8.剣道'!C29,\"<>\")","v":0},null,null,{"$f":"COUNTIF('8.剣道'!C30:C34,\"<>\")","v":0},null,null,null,null,null,{"$f":"COUNTA('8.剣道'!C29:C34) - SUMPRODUCT(('8.剣道'!C29:C34<>\"\")/COUNTIF('8.剣道'!C29:C34,'8.剣道'!C29:C34& \"\"))","v":0},null,null,0]
[null,null,null,null,null,null,null,"青年女子",null,null,null,null,{"$f":"COUNTIF('8.剣道'!C40,\"<>\")","v":0},null,null,{"$f":"COUNTIF('8.剣道'!C41:C43,\"<>\")","v":0},null,null,null,null,null,{"$f":"COUNTA('8.剣道'!C40:C43) - SUMPRODUCT(('8.剣道'!C40:C43<>\"\")/COUNTIF('8.剣道'!C40:C43,'8.剣道'!C40:C43& \"\"))","v":0},null,null,0]
["弓道",null,null,null,null,null,null,"一般男子",null,null,null,null,{"$f":"COUNTIF('9.弓道'!B9,\"<>\")","v":0},null,null,{"$f":"COUNTIF('9.弓道'!B10:B13,\"<>\")","v":0},null,null,null,null,null,{"$f":"COUNTA('9.弓道'!B9:B13) - SUMPRODUCT(('9.弓道'!B9:B13<>\"\")/COUNTIF('9.弓道'!B9:B13,'9.弓道'!B9:B13& \"\"))","v":0},null,null,0]
[null,null,null,null,null,null,null,"一般女子",null,null,null,null,{"$f":"COUNTIF('9.弓道'!B19,\"<>\")","v":0},null,null,{"$f":"COUNTIF('9.弓道'!B20:B23,\"<>\")","v":0},null,null,null,null,null,{"$f":"COUNTA('9.弓道'!B19:B23) - SUMPRODUCT(('9.弓道'!B19:B23<>\"\")/COUNTIF('9.弓道'!B19:B23,'9.弓道'!B19:B23& \"\"))","v":0},null,null,0]
[null,null,null,null,null,null,null,"青年",null,null,null,null,{"$f":"COUNTIF('9.弓道'!B29,\"<>\")","v":0},null,null,{"$f":"COUNTIF('9.弓道'!B30:B33,\"<>\")","v":0},null,null,null,null,null,{"$f":"COUNTA('9.弓道'!B29:B33) - SUMPRODUCT(('9.弓道'!B29:B33<>\"\")/COUNTIF('9.弓道'!B29:B33,'9.弓道'!B29:B33& \"\"))","v":0},null,null,0]
["相撲",null,null,null,null,null,null,"一般男子",null,null,null,null,{"$f":"COUNTIF('10.相撲'!B9,\"<>\")+COUNTIF('10.相撲'!B19,\"<>\")","v":0},null,null,{"$f":"COUNTIF('10.相撲'!B10:B13,\"<>\")+COUNTIF('10.相撲'!B20:B23,\"<>\")","v":0},null,null,null,null,null,{"$f":"SUMPRODUCT(('相撲　名簿'!D5:D31<>\"\") * 1) - SUMPRODUCT(('相撲　名簿'!D5:D31<>\"\") / COUNTIF('相撲　名簿'!D5:D31, '相撲　名簿'!D5:D31))","v":0},null,null,{"$f":"M41+P41+M42+P42+M43+P43-V41","v":0}]
[null,null,null,null,null,null,null,"青年男子",null,null,null,null,{"$f":"COUNTIF('10.相撲'!B28,\"<>\")","v":0},null,null,{"$f":"COUNTIF('10.相撲'!B29:B34,\"<>\")","v":0}]
[null,null,null,null,null,null,null,"個人戦 ",null,null,null,null,null,null,null,{"$f":"COUNTIF('10.相撲'!B40:B49,\"<>\")","v":0}]
["ソフトボール",null,null,null,null,null,null,"一般男子",null,null,null,null,{"$f":"COUNTIF('11.ソフトボール'!C9,\"<>\")","v":0},null,null,{"$f":"COUNTIF('11.ソフトボール'!C10:C26,\"<>\")","v":0},null,null,null,null,null,{"$f":"COUNTA('11.ソフトボール'!C9:C26) - SUMPRODUCT(('11.ソフトボール'!C9:C26<>\"\")/COUNTIF('11.ソフトボール'!C9:C26,'11.ソフトボール'!C9:C26& \"\"))","v":0},null,null,0]
["空手道",null,null,null,null,null,null,"男子団体",null,null,null,null,{"$f":"COUNTIF('12.空手道'!B9,\"<>\")","v":0},null,null,{"$f":"COUNTIF('12.空手道'!B10:B13,\"<>\")","v":0},null,null,null,null,null,{"$f":"SUMPRODUCT(('空手　名簿'!C3:C55<>\"\") * 1) - SUMPRODUCT(('空手　名簿'!C3:C55<>\"\") / COUNTIF('空手　名簿'!C3:C55, '空手　名簿'!C3:C55))","v":0},null,null,{"$f":"M45+M46+M47+M48+M49+P45+P46+P47+P48+P49-V45","v":0}]
[null,null,null,null,null,null,null,"一般男子(個人)",null,null,null,null,{"$f":"COUNTIF('12.空手道'!B20,\"<>\")+COUNTIF('12.空手道'!B32,\"<>\")","v":0},null,null,{"$f":"COUNTIF('12.空手道'!B21:B25,\"<>\")+COUNTIF('12.空手道'!B33:B37,\"<>\")","v":0}]
[null,null,null,null,null,null,null,"一般女子(個人)",null,null,null,null,{"$f":"COUNTIF('12.空手道'!B66,\"<>\")+COUNTIF('12.空手道'!B78,\"<>\")","v":0},null,null,{"$f":"COUNTIF('12.空手道'!B67:B71,\"<>\")+COUNTIF('12.空手道'!B79:B83,\"<>\")","v":0}]
[null,null,null,null,null,null,null,"壮年男子(個人)",null,null,null,null,{"$f":"COUNTIF('12.空手道'!B44,\"<>\")+COUNTIF('12.空手道'!B55,\"<>\")","v":0},null,null,{"$f":"COUNTIF('12.空手道'!B45:B49,\"<>\")+COUNTIF('12.空手道'!B56:B60,\"<>\")","v":0}]
[null,null,null,null,null,null,null,"壮年女子(個人)",null,null,null,null,{"$f":"COUNTIF('12.空手道'!B90,\"<>\")+COUNTIF('12.空手道'!B101,\"<>\")","v":0},null,null,{"$f":"COUNTIF('12.空手道'!B91:B95,\"<>\")+COUNTIF('12.空手道'!B102:B106,\"<>\")","v":0}]
["テニス",null,null,null,null,null,null,"一般",null,null,null,null,{"$f":"COUNTIF('13.テニス'!C9,\"<>\")","v":0},null,null,{"$f":"COUNTIF('13.テニス'!C10:C17,\"<>\")","v":0},null,null,null,null,null,{"$f":"COUNTA('13.テニス'!C9:C17) - SUMPRODUCT(('13.テニス'!C9:C17<>\"\")/COUNTIF('13.テニス'!C9:C17,'13.テニス'!C9:C17& \"\"))","v":0},null,null,0]
["小　　計",null,null,null,null,null,null,null,null,null,null,null,{"$f":"SUM(M6:O50)","v":0},null,null,{"$f":"SUM(P6:R50)","v":0},null,null,{"$f":"SUM(S6:U50)","v":0},null,null,{"$f":"SUM(V6:X50)","v":0},null,null,{"$f":"SUM(Y6:AA50)","v":0}]
["大　　会　　役　　員",null,null,null,null,null,null,null,null,null,null,null,null,null,null,null,null,null,null,null,null,null,null,null,{"$f":"COUNTIF(①役員名簿!$D$10:$D$26,\"〇\")","v":0}]
["合　　計",null,null,null,null,null,null,null,null,null,null,null,null,null,null,null,null,null,null,null,null,null,null,null,{"$f":"SUM(Y51:AA52)","v":0}]

{"sheet":"③参加料内訳","index":5,"n_rows":31,"n_cols":22,"rows_kept":31,"cut":false,"hidden":false,"merged":[[23,0,23,16],[23,17,23,20],[30,0,30,21],[25,0,25,21],[26,0,26,21],[28,0,28,21],[27,0,27,21],[29,0,29,21],[21,0,21,6],[21,7,21,11],[21,12,21,16],[21,17,21,20],[22,0,22,6],[22,7,22,11],[22,12,22,16],[22,17,22,20],[19,0,19,6],[19,7,19,11],[19,12,19,16],[19,17,19,20],[20,0,20,6],[20,7,20,11],[20,12,20,16],[20,17,20,20],[17,0,17,6],[17,7,17,11],[17,12,17,16],[17,17,17,20],[18,0,18,6],[18,7,18,11],[18,12,18,16],[18,17,18,20],[15,0,15,6],[15,7,15,11],[15,12,15,16],[15,17,15,20],[16,0,16,6],[16,7,16,11],[16,12,16,16],[16,17,16,20],[14,0,14,6],[14,7,14,11],[14,12,14,16],[14,17,14,20],[12,0,12,6],[12,7,12,11],[12,12,12,16],[12,17,12,20],[13,0,13,6],[13,7,13,11],[13,12,13,16],[13,17,13,20],[10,0,10,6],[10,7,10,11],[10,12,10,16],[10,17,10,20],[11,0,11,6],[11,7,11,11],[11,12,11,16],[11,17,11,20],[1,0,1,21],[8,0,8,6],[8,7,8,16],[8,17,8,21],[9,0,9,6],[9,7,9,11],[9,12,9,16],[9,17,9,20],[4,0,4,5],[4,7,4,21],[5,0,6,5],[5,7,6,21],[3,14,3,16],[3,11,3,13]]}
[{"$f":"\"第\"&Facesheet!$B$2&\"回福岡県民スポーツ大会\"","v":"第68回福岡県民スポーツ大会"}]
["秋季大会　参加料内訳書"]
[]
[null,null,null,null,null,null,null,null,null,null,null,"申込期日：",null,null,"令和  7  年",null,null,null,"月",null,"日"]
["郡 市 名",null,null,null,null,null,null,"代表者役職及び氏名"]
[{"$f":"①役員名簿!B7","v":0}]
[]
[]
["競技種目名",null,null,null,null,null,null,"申込人数(人)×参加料(円)",null,null,null,null,null,null,null,null,null,"合計金額"]
["大会役員",null,null,null,null,null,null,{"$f":"COUNTIF(①役員名簿!D10:D26,\"〇\")","v":0},null,null,null,null,"×　500円",null,null,null,null,{"$f":"H10*500","v":0},null,null,null,"円"]
["陸上競技",null,null,null,null,null,null,{"$f":"②参加人員!Y6","v":0},null,null,null,null,"×　500円",null,null,null,null,{"$f":"H11*500","v":0},null,null,null,"円"]
["バスケットボール",null,null,null,null,null,null,{"$f":"SUM(②参加人員!Y12:AA15)","v":0},null,null,null,null,"×　500円",null,null,null,null,0,null,null,null,"円"]
["バレーボール",null,null,null,null,null,null,{"$f":"SUM(②参加人員!Y16:AA20)","v":0},null,null,null,null,"×　500円",null,null,null,null,0,null,null,null,"円"]
["ソフトテニス",null,null,null,null,null,null,{"$f":"SUM(②参加人員!Y21:AA22)","v":0},null,null,null,null,"×　500円",null,null,null,null,0,null,null,null,"円"]
["卓球",null,null,null,null,null,null,{"$f":"SUM(②参加人員!Y23:AA25)","v":0},null,null,null,null,"×　500円",null,null,null,null,0,null,null,null,"円"]
["バドミントン",null,null,null,null,null,null,{"$f":"SUM(②参加人員!Y26:AA31)","v":0},null,null,null,null,"×　500円",null,null,null,null,0,null,null,null,"円"]
["柔道",null,null,null,null,null,null,{"$f":"SUM(②参加人員!Y32:AA33)","v":0},null,null,null,null,"×　500円",null,null,null,null,0,null,null,null,"円"]
["剣道",null,null,null,null,null,null,{"$f":"SUM(②参加人員!Y34:AA37)","v":0},null,null,null,null,"×　500円",null,null,null,null,0,null,null,null,"円"]
["弓道",null,null,null,null,null,null,{"$f":"SUM(②参加人員!Y38:AA40)","v":0},null,null,null,null,"×　500円",null,null,null,null,0,null,null,null,"円"]
["相撲",null,null,null,null,null,null,{"$f":"②参加人員!Y41","v":0},null,null,null,null,"×　500円",null,null,null,null,0,null,null,null,"円"]
["ソフトボール",null,null,null,null,null,null,{"$f":"②参加人員!Y44","v":0},null,null,null,null,"×　500円",null,null,null,null,0,null,null,null,"円"]
["空手道",null,null,null,null,null,null,{"$f":"②参加人員!Y45","v":0},null,null,null,null,"×　500円",null,null,null,null,0,null,null,null,"円"]
["テニス",null,null,null,null,null,null,{"$f":"②参加人員!Y50","v":0},null,null,null,null,"×　500円",null,null,null,null,0,null,null,null,"円"]
["振　込　金　額　合　計",null,null,null,null,null,null,null,null,null,null,null,null,null,null,null,null,{"$f":"SUM(R10:U23)","v":0},null,null,null,"円"]
[]
["※　秋季大会申込み締切は、令和７年７月２９日（火）です。本データをメールにて"]
["　送付し、お申込みください。"]
["※　役員の参加料については、役員名簿(申込書１）において保険加入欄に○印を"]
["　された方が対象となります。"]
["※　参加料を支払われた方が、保険適用対象者となります。"]
["※　参加料は、原則ご返金することができませんので予めご了承ください。"]

{"sheet":"年齢基準","index":6,"n_rows":28,"n_cols":23,"rows_kept":28,"cut":false,"hidden":true,"merged":[[27,18,27,19],[26,22,27,22],[2,15,2,16],[21,20,21,21],[21,18,21,19],[10,22,14,22],[26,18,26,19],[19,3,20,3],[19,4,20,5],[10,18,10,19],[11,20,11,21],[12,20,12,21],[13,20,13,21],[14,18,14,19],[14,20,14,21],[11,6,11,7],[12,6,12,7],[6,3,13,3],[6,4,13,5],[6,6,6,7],[7,6,7,7],[8,6,8,7],[9,6,9,7],[10,6,10,7],[2,8,2,9],[2,11,2,12],[1,8,1,12],[5,2,5,5],[5,6,5,7]]}
[]
[null,null,null,null,null,null,null,null,"参考"]
[null,null,null,null,null,null,null,null,"より大きい",null,null,"より小さい",null,null,null,"剣道用"]
[]
[null,null,null,null,null,null,null,null,"2007-04-01",{"$f":"IF(I5=\"\",\"\",DATEDIF(I5,Facesheet!$B$3,\"Y\"))","v":18}]
[null,null,"生年月日",null,null,null,"年齢",null,"2007-04-02",{"$f":"IF(I6=\"\",\"\",DATEDIF(I6,Facesheet!$B$3,\"Y\"))","v":17},null,null,null,null,null,"1969-07-29",{"$f":"IF(P6=\"\",\"\",DATEDIF(P6,Facesheet!$B$4,\"Y\"))","v":56}]
[null,"18歳以上のみ参加可能",39173,"より大きい","（より若いものを朱書き）",null,null,null,null,null,null,null,null,null,null,"1969-07-30",{"$f":"IF(P7=\"\",\"\",DATEDIF(P7,Facesheet!$B$4,\"Y\"))","v":55}]
[null,"30歳以上のみ参加可能",34790,null,null,null,null,null,"1995-04-01",{"$f":"IF(I8=\"\",\"\",DATEDIF(I8,Facesheet!$B$3,\"Y\"))","v":30}]
[null,"35歳以上のみ参加可能",32964,null,null,null,null,null,"1995-04-02",{"$f":"IF(I9=\"\",\"\",DATEDIF(I9,Facesheet!$B$3,\"Y\"))","v":29},null,null,null,null,null,"1970-07-29",{"$f":"IF(P9=\"\",\"\",DATEDIF(P9,Facesheet!$B$4,\"Y\"))","v":55}]
[null,"40歳以上のみ参加可能",31138,null,null,null,null,null,null,{"$f":"IF(I10=\"\",\"\",DATEDIF(I10,Facesheet!$B$3,\"Y\"))","v":""},null,null,null,null,null,"1970-07-30",{"$f":"IF(P10=\"\",\"\",DATEDIF(P10,Facesheet!$B$4,\"Y\"))","v":54}]
[null,"45歳以上のみ参加可能",29312,null,null,null,null,null,"1990-04-01",{"$f":"IF(I11=\"\",\"\",DATEDIF(I11,Facesheet!$B$3,\"Y\"))","v":35},null,"1989-04-01",{"$f":"IF(L11=\"\",\"\",DATEDIF(L11,Facesheet!$B$3,\"Y\"))","v":36},null,null,null,null,null,"25歳以下",null,"36370から１",null,"朱書き"]
[null,"50歳以上のみ参加可能",27485,null,null,null,null,null,"1990-04-02",{"$f":"IF(I12=\"\",\"\",DATEDIF(I12,Facesheet!$B$3,\"Y\"))","v":34},null,"1989-04-02",{"$f":"IF(L12=\"\",\"\",DATEDIF(L12,Facesheet!$B$3,\"Y\"))","v":35},null,null,"1979-07-29",{"$f":"IF(P12=\"\",\"\",DATEDIF(P12,Facesheet!$B$4,\"Y\"))","v":46},null,"26歳以上35歳以下",null,"36370から32719以外"]
[null,"55歳以上のみ参加可能",25659,null,null,null,null,null,null,null,null,null,null,null,null,"1979-07-30",{"$f":"IF(P13=\"\",\"\",DATEDIF(P13,Facesheet!$B$4,\"Y\"))","v":45},null,"36歳以上45歳以下",null,"32718から29066以外"]
[null,null,null,null,null,null,null,null,"1985-04-01",{"$f":"IF(I14=\"\",\"\",DATEDIF(I14,Facesheet!$B$3,\"Y\"))","v":40},null,"1984-04-01",{"$f":"IF(L14=\"\",\"\",DATEDIF(L14,Facesheet!$B$3,\"Y\"))","v":41},null,null,null,null,null,"46歳以上54歳以下",null,"29065より大きい"]
[null,null,null,null,null,null,null,null,"1985-04-02",{"$f":"IF(I15=\"\",\"\",DATEDIF(I15,Facesheet!$B$3,\"Y\"))","v":39},null,"1984-04-02",{"$f":"IF(L15=\"\",\"\",DATEDIF(L15,Facesheet!$B$3,\"Y\"))","v":40},null,null,"1989-07-29",{"$f":"IF(P15=\"\",\"\",DATEDIF(P15,Facesheet!$B$4,\"Y\"))","v":36},null,"55歳以上",null,"25778より大きい"]
[null,null,null,null,null,null,null,null,null,{"$f":"IF(I16=\"\",\"\",DATEDIF(I16,Facesheet!$B$3,\"Y\"))","v":""},null,null,{"$f":"IF(L16=\"\",\"\",DATEDIF(L16,Facesheet!$B$3,\"Y\"))","v":""},null,null,"1989-07-30",{"$f":"IF(P16=\"\",\"\",DATEDIF(P16,Facesheet!$B$4,\"Y\"))","v":35}]
[null,null,null,null,null,null,null,null,"1970-04-01",{"$f":"IF(I17=\"\",\"\",DATEDIF(I17,Facesheet!$B$3,\"Y\"))","v":55},null,null,{"$f":"IF(L17=\"\",\"\",DATEDIF(L17,Facesheet!$B$3,\"Y\"))","v":""}]
[null,null,null,null,null,null,null,null,"1970-04-02",{"$f":"IF(I18=\"\",\"\",DATEDIF(I18,Facesheet!$B$3,\"Y\"))","v":54},null,null,null,null,null,"1999-07-29",{"$f":"IF(P18=\"\",\"\",DATEDIF(P18,Facesheet!$B$4,\"Y\"))","v":26}]
[null,null,null,null,null,null,null,null,null,{"$f":"IF(I19=\"\",\"\",DATEDIF(I19,Facesheet!$B$3,\"Y\"))","v":""},null,null,null,null,null,"1999-07-30",{"$f":"IF(P19=\"\",\"\",DATEDIF(P19,Facesheet!$B$4,\"Y\"))","v":25}]
[null,"40歳以下のみ参加可能",30773,"の間","（より老いたものを朱書き）",null,null,null,"1980-04-01",{"$f":"IF(I20=\"\",\"\",DATEDIF(I20,Facesheet!$B$3,\"Y\"))","v":45},null,null,{"$f":"IF(L20=\"\",\"\",DATEDIF(L20,Facesheet!$B$3,\"Y\"))","v":""},null,null,null,{"$f":"IF(P20=\"\",\"\",DATEDIF(P20,Facesheet!$B$4,\"Y\"))","v":""}]
[null,"35歳以下のみ参加可能",32599,null,null,null,null,null,"1980-04-02",{"$f":"IF(I21=\"\",\"\",DATEDIF(I21,Facesheet!$B$3,\"Y\"))","v":44},null,null,null,null,null,null,{"$f":"IF(P21=\"\",\"\",DATEDIF(P21,Facesheet!$B$4,\"Y\"))","v":""}]
[null,null,null,null,null,null,null,null,null,{"$f":"IF(I22=\"\",\"\",DATEDIF(I22,Facesheet!$B$3,\"Y\"))","v":""},null,null,null,null,null,null,{"$f":"IF(P22=\"\",\"\",DATEDIF(P22,Facesheet!$B$4,\"Y\"))","v":""},null,"40歳以上",null,"31257より大きい",null,"朱書き"]
[null,null,null,null,null,null,null,null,null,{"$f":"IF(I23=\"\",\"\",DATEDIF(I23,Facesheet!$B$3,\"Y\"))","v":""},null,null,null,null,null,"1985-07-29",{"$f":"IF(P23=\"\",\"\",DATEDIF(P23,Facesheet!$B$4,\"Y\"))","v":40}]
[null,null,null,null,null,null,null,null,"1975-04-01",{"$f":"IF(I24=\"\",\"\",DATEDIF(I24,Facesheet!$B$3,\"Y\"))","v":50},null,null,null,null,null,"1985-07-30",{"$f":"IF(P24=\"\",\"\",DATEDIF(P24,Facesheet!$B$4,\"Y\"))","v":39}]
[null,null,null,null,null,null,null,null,"1975-04-02",{"$f":"IF(I25=\"\",\"\",DATEDIF(I25,Facesheet!$B$3,\"Y\"))","v":49}]
[null,"70歳以上が１名以上",20180,"の間"]
[null,null,null,null,null,null,null,null,"1955-04-01",{"$f":"IF(I27=\"\",\"\",DATEDIF(I27,Facesheet!$B$3,\"Y\"))","v":70},null,null,null,null,null,"1995-07-29",{"$f":"IF(P27=\"\",\"\",DATEDIF(P27,Facesheet!$B$4,\"Y\"))","v":30},null,"30歳以下",null,"34910より大きい",null,"朱書き"]
[null,null,null,null,null,null,null,null,"1955-04-02",{"$f":"IF(I28=\"\",\"\",DATEDIF(I28,Facesheet!$B$3,\"Y\"))","v":69},null,null,null,null,null,"1995-07-30",{"$f":"IF(P28=\"\",\"\",DATEDIF(P28,Facesheet!$B$4,\"Y\"))","v":29},null,"35歳以上",null,"32718から1"]

{"sheet":"陸上ドロップダウン","index":7,"n_rows":33,"n_cols":12,"rows_kept":33,"cut":false,"hidden":true,"merged":[]}
[]
[]
[null,"男","女",null,"男子リレー","女子リレー"]
[null,null,null,null,null,null,null,null,"↓"]
[null,"一般男子","一般女子","青年男子","青年女子","壮年男子","壮年女子",null,"一般男子","一般女子","壮年男子","一般男子"]
[null,"100ｍ","100ｍ","100ｍ","100ｍ","100ｍ(40～49歳)","100ｍ(40～49歳)",null,"青年男子","青年女子","壮年女子","一般女子"]
[null,"5,000m","3,000ｍ","400ｍ","200ｍ","100ｍ(50～59歳)","100ｍ(50～59歳)"]
[null,"走高跳","走幅跳","1,500ｍ","800ｍ","100ｍ(60～69歳)","100ｍ(60～69歳)"]
[null,"走幅跳","砲丸投（4kg）","5,000ｍ","走高跳","100ｍ(70～79歳)","100ｍ(70～79歳)"]
[null,null,null,"走高跳","走幅跳","100ｍ(80～89歳)","100ｍ(80～89歳)"]
[null,null,null,"走幅跳","砲丸投（4kg）","100ｍ(90～99歳)","100ｍ(90～99歳)"]
[null,null,null,"砲丸投（6kg）",null,"100ｍ(100歳以上)","100ｍ(100歳以上)"]
[null,null,null,null,null,"3,000ｍ(50～59歳)","3,000ｍ(40～49歳)"]
[null,null,null,null,null,"3,000ｍ(60～69歳)","3,000ｍ(50～59歳)"]
[null,null,null,null,null,"3,000ｍ(70～79歳)","3,000ｍ(60～69歳)"]
[null,null,null,null,null,"3,000ｍ(80～89歳)","3,000ｍ(70～79歳)"]
[null,null,null,null,null,"3,000ｍ(90～99歳)","3,000ｍ(80～89歳)"]
[null,null,null,null,null,"3,000ｍ(100歳以上)","3,000ｍ(90～99歳)"]
[null,null,null,null,null,"5,000ｍ(40～49歳)","3,000ｍ(100歳以上)"]
[null,null,null,null,null,"走幅跳(40～49歳)","走幅跳(40～49歳)"]
[null,null,null,null,null,"走幅跳(50～59歳)","走幅跳(50～59歳)"]
[null,null,null,null,null,"走幅跳(60～69歳)","走幅跳(60～69歳)"]
[null,null,null,null,null,"走幅跳(70～79歳)","走幅跳(70～79歳)"]
[null,null,null,null,null,"走幅跳(80～89歳)","走幅跳(80～89歳)"]
[null,null,null,null,null,"走幅跳(90～99歳)","走幅跳(90～99歳)"]
[null,null,null,null,null,"走幅跳(100歳以上)","走幅跳(100歳以上)"]
[null,null,null,null,null,"砲丸投(40～49歳)","砲丸投(40～49歳)"]
[null,null,null,null,null,"砲丸投(50～59歳)","砲丸投(50～59歳)"]
[null,null,null,null,null,"砲丸投(60～69歳)","砲丸投(60～69歳)"]
[null,null,null,null,null,"砲丸投(70～79歳)","砲丸投(70～79歳)"]
[null,null,null,null,null,"砲丸投(80～89歳)","砲丸投(80～89歳)"]
[null,null,null,null,null,"砲丸投(90～99歳)","砲丸投(90～99歳)"]
[null,null,null,null,null,"砲丸投(100歳以上)","砲丸投(100歳以上)"]

{"sheet":"1.陸上","index":8,"n_rows":71,"n_cols":15,"rows_kept":71,"cut":false,"hidden":false,"merged":[[5,4,6,4],[5,8,5,10],[5,11,5,13],[1,0,1,3],[5,6,6,6],[5,7,6,7],[4,0,4,1],[5,0,6,0],[5,1,6,1],[5,2,6,2],[5,3,6,3],[5,5,6,5],[3,0,3,14],[8,0,8,1],[9,0,9,1],[8,8,8,14],[9,8,9,14],[70,0,70,14]]}
[null,null,null,null,null,null,null,null,null,null,null,null,null,null,"申込書１"]
[{"$f":"\"第\"&Facesheet!$B$2&\"回福岡県民スポーツ大会\"","v":"第68回福岡県民スポーツ大会"}]
[]
["陸上競技"]
["郡市名（",null,{"$f":"①役員名簿!$B$7","v":0},"）"]
["No.","ｱｽﾘｰﾄ\nﾋﾞﾌﾞｽ","氏名","ﾌﾘｶﾞﾅ","性別","住所","生年月日","年齢","種目１",null,null,"種目２",null,null,"4×100ｍＲ"]
[null,null,null,null,null,null,null,null,"種別","種目名","参考記録","種別","種目名","参考記録","男女"]
["例",9999,"スポ協　太郎","ｽﾎﾟｷｮｳ　ﾀﾛｳ","男","福岡市博多区東平尾公園1-1-1","2000-01-01",{"$f":"IF(G8=\"\",\"\",DATEDIF(G8,Facesheet!$B$3,\"Y\"))","v":25},"青年男子","100ｍ",900,null,null,999]
["監督"]
["監督"]
[1,null,null,null,null,null,null,{"$f":"IF(G11=\"\",\"\",DATEDIF(G11,Facesheet!$B$3,\"Y\"))","v":""},null,null,null,{"$f":"IF(I11=\"\", \"\", I11)","v":""}]
[2,null,null,null,null,null,null,{"$f":"IF(G12=\"\",\"\",DATEDIF(G12,Facesheet!$B$3,\"Y\"))","v":""},null,null,null,{"$f":"IF(I12=\"\", \"\", I12)","v":""}]
[3,null,null,null,null,null,null,{"$f":"IF(G13=\"\",\"\",DATEDIF(G13,Facesheet!$B$3,\"Y\"))","v":""},null,null,null,""]
[4,null,null,null,null,null,null,{"$f":"IF(G14=\"\",\"\",DATEDIF(G14,Facesheet!$B$3,\"Y\"))","v":""},null,null,null,""]
[5,null,null,null,null,null,null,{"$f":"IF(G15=\"\",\"\",DATEDIF(G15,Facesheet!$B$3,\"Y\"))","v":""},null,null,null,""]
[6,null,null,null,null,null,null,{"$f":"IF(G16=\"\",\"\",DATEDIF(G16,Facesheet!$B$3,\"Y\"))","v":""},null,null,null,""]
[7,null,null,null,null,null,null,{"$f":"IF(G17=\"\",\"\",DATEDIF(G17,Facesheet!$B$3,\"Y\"))","v":""},null,null,null,""]
[8,null,null,null,null,null,null,{"$f":"IF(G18=\"\",\"\",DATEDIF(G18,Facesheet!$B$3,\"Y\"))","v":""},null,null,null,""]
[9,null,null,null,null,null,null,{"$f":"IF(G19=\"\",\"\",DATEDIF(G19,Facesheet!$B$3,\"Y\"))","v":""},null,null,null,""]
[10,null,null,null,null,null,null,{"$f":"IF(G20=\"\",\"\",DATEDIF(G20,Facesheet!$B$3,\"Y\"))","v":""},null,null,null,""]
[11,null,null,null,null,null,null,{"$f":"IF(G21=\"\",\"\",DATEDIF(G21,Facesheet!$B$3,\"Y\"))","v":""},null,null,null,""]
[12,null,null,null,null,null,null,{"$f":"IF(G22=\"\",\"\",DATEDIF(G22,Facesheet!$B$3,\"Y\"))","v":""},null,null,null,""]
[13,null,null,null,null,null,null,{"$f":"IF(G23=\"\",\"\",DATEDIF(G23,Facesheet!$B$3,\"Y\"))","v":""},null,null,null,""]
[14,null,null,null,null,null,null,{"$f":"IF(G24=\"\",\"\",DATEDIF(G24,Facesheet!$B$3,\"Y\"))","v":""},null,null,null,""]
[15,null,null,null,null,null,null,{"$f":"IF(G25=\"\",\"\",DATEDIF(G25,Facesheet!$B$3,\"Y\"))","v":""},null,null,null,""]
[16,null,null,null,null,null,null,{"$f":"IF(G26=\"\",\"\",DATEDIF(G26,Facesheet!$B$3,\"Y\"))","v":""},null,null,null,""]
[17,null,null,null,null,null,null,{"$f":"IF(G27=\"\",\"\",DATEDIF(G27,Facesheet!$B$3,\"Y\"))","v":""},null,null,null,""]
[18,null,null,null,null,null,null,{"$f":"IF(G28=\"\",\"\",DATEDIF(G28,Facesheet!$B$3,\"Y\"))","v":""},null,null,null,""]
[19,null,null,null,null,null,null,{"$f":"IF(G29=\"\",\"\",DATEDIF(G29,Facesheet!$B$3,\"Y\"))","v":""},null,null,null,""]
[20,null,null,null,null,null,null,{"$f":"IF(G30=\"\",\"\",DATEDIF(G30,Facesheet!$B$3,\"Y\"))","v":""},null,null,null,""]
[21,null,null,null,null,null,null,{"$f":"IF(G31=\"\",\"\",DATEDIF(G31,Facesheet!$B$3,\"Y\"))","v":""},null,null,null,""]
[22,null,null,null,null,null,null,{"$f":"IF(G32=\"\",\"\",DATEDIF(G32,Facesheet!$B$3,\"Y\"))","v":""},null,null,null,""]
[23,null,null,null,null,null,null,{"$f":"IF(G33=\"\",\"\",DATEDIF(G33,Facesheet!$B$3,\"Y\"))","v":""},null,null,null,""]
[24,null,null,null,null,null,null,{"$f":"IF(G34=\"\",\"\",DATEDIF(G34,Facesheet!$B$3,\"Y\"))","v":""},null,null,null,""]
[25,null,null,null,null,null,null,{"$f":"IF(G35=\"\",\"\",DATEDIF(G35,Facesheet!$B$3,\"Y\"))","v":""},null,null,null,""]
[26,null,null,null,null,null,null,{"$f":"IF(G36=\"\",\"\",DATEDIF(G36,Facesheet!$B$3,\"Y\"))","v":""},null,null,null,""]
[27,null,null,null,null,null,null,{"$f":"IF(G37=\"\",\"\",DATEDIF(G37,Facesheet!$B$3,\"Y\"))","v":""},null,null,null,""]
[28,null,null,null,null,null,null,{"$f":"IF(G38=\"\",\"\",DATEDIF(G38,Facesheet!$B$3,\"Y\"))","v":""},null,null,null,""]
[29,null,null,null,null,null,null,{"$f":"IF(G39=\"\",\"\",DATEDIF(G39,Facesheet!$B$3,\"Y\"))","v":""},null,null,null,""]
[30,null,null,null,null,null,null,{"$f":"IF(G40=\"\",\"\",DATEDIF(G40,Facesheet!$B$3,\"Y\"))","v":""},null,null,null,""]
[31,null,null,null,null,null,null,{"$f":"IF(G41=\"\",\"\",DATEDIF(G41,Facesheet!$B$3,\"Y\"))","v":""},null,null,null,""]
[32,null,null,null,null,null,null,{"$f":"IF(G42=\"\",\"\",DATEDIF(G42,Facesheet!$B$3,\"Y\"))","v":""},null,null,null,""]
[33,null,null,null,null,null,null,{"$f":"IF(G43=\"\",\"\",DATEDIF(G43,Facesheet!$B$3,\"Y\"))","v":""},null,null,null,""]
[34,null,null,null,null,null,null,{"$f":"IF(G44=\"\",\"\",DATEDIF(G44,Facesheet!$B$3,\"Y\"))","v":""},null,null,null,""]
[35,null,null,null,null,null,null,{"$f":"IF(G45=\"\",\"\",DATEDIF(G45,Facesheet!$B$3,\"Y\"))","v":""},null,null,null,""]
[36,null,null,null,null,null,null,{"$f":"IF(G46=\"\",\"\",DATEDIF(G46,Facesheet!$B$3,\"Y\"))","v":""},null,null,null,""]
[37,null,null,null,null,null,null,{"$f":"IF(G47=\"\",\"\",DATEDIF(G47,Facesheet!$B$3,\"Y\"))","v":""},null,null,null,""]
[38,null,null,null,null,null,null,{"$f":"IF(G48=\"\",\"\",DATEDIF(G48,Facesheet!$B$3,\"Y\"))","v":""},null,null,null,""]
[39,null,null,null,null,null,null,{"$f":"IF(G49=\"\",\"\",DATEDIF(G49,Facesheet!$B$3,\"Y\"))","v":""},null,null,null,""]
[40,null,null,null,null,null,null,{"$f":"IF(G50=\"\",\"\",DATEDIF(G50,Facesheet!$B$3,\"Y\"))","v":""},null,null,null,""]
[41,null,null,null,null,null,null,{"$f":"IF(G51=\"\",\"\",DATEDIF(G51,Facesheet!$B$3,\"Y\"))","v":""},null,null,null,""]
[42,null,null,null,null,null,null,{"$f":"IF(G52=\"\",\"\",DATEDIF(G52,Facesheet!$B$3,\"Y\"))","v":""},null,null,null,""]
[43,null,null,null,null,null,null,{"$f":"IF(G53=\"\",\"\",DATEDIF(G53,Facesheet!$B$3,\"Y\"))","v":""},null,null,null,""]
[44,null,null,null,null,null,null,{"$f":"IF(G54=\"\",\"\",DATEDIF(G54,Facesheet!$B$3,\"Y\"))","v":""},null,null,null,""]
[45,null,null,null,null,null,null,{"$f":"IF(G55=\"\",\"\",DATEDIF(G55,Facesheet!$B$3,\"Y\"))","v":""},null,null,null,""]
[46,null,null,null,null,null,null,{"$f":"IF(G56=\"\",\"\",DATEDIF(G56,Facesheet!$B$3,\"Y\"))","v":""},null,null,null,{"$f":"IF(I56=\"\", \"\", I56)","v":""}]
[47,null,null,null,null,null,null,{"$f":"IF(G57=\"\",\"\",DATEDIF(G57,Facesheet!$B$3,\"Y\"))","v":""},null,null,null,{"$f":"IF(I57=\"\", \"\", I57)","v":""}]
[48,null,null,null,null,null,null,{"$f":"IF(G58=\"\",\"\",DATEDIF(G58,Facesheet!$B$3,\"Y\"))","v":""},null,null,null,""]
[49,null,null,null,null,null,null,{"$f":"IF(G59=\"\",\"\",DATEDIF(G59,Facesheet!$B$3,\"Y\"))","v":""},null,null,null,""]
[50,null,null,null,null,null,null,{"$f":"IF(G60=\"\",\"\",DATEDIF(G60,Facesheet!$B$3,\"Y\"))","v":""},null,null,null,""]
[51,null,null,null,null,null,null,{"$f":"IF(G61=\"\",\"\",DATEDIF(G61,Facesheet!$B$3,\"Y\"))","v":""},null,null,null,""]
[52,null,null,null,null,null,null,{"$f":"IF(G62=\"\",\"\",DATEDIF(G62,Facesheet!$B$3,\"Y\"))","v":""},null,null,null,""]
[53,null,null,null,null,null,null,{"$f":"IF(G63=\"\",\"\",DATEDIF(G63,Facesheet!$B$3,\"Y\"))","v":""},null,null,null,""]
[54,null,null,null,null,null,null,{"$f":"IF(G64=\"\",\"\",DATEDIF(G64,Facesheet!$B$3,\"Y\"))","v":""},null,null,null,""]
[55,null,null,null,null,null,null,{"$f":"IF(G65=\"\",\"\",DATEDIF(G65,Facesheet!$B$3,\"Y\"))","v":""},null,null,null,""]
[56,null,null,null,null,null,null,{"$f":"IF(G66=\"\",\"\",DATEDIF(G66,Facesheet!$B$3,\"Y\"))","v":""},null,null,null,""]
[57,null,null,null,null,null,null,{"$f":"IF(G67=\"\",\"\",DATEDIF(G67,Facesheet!$B$3,\"Y\"))","v":""},null,null,null,""]
[58,null,null,null,null,null,null,{"$f":"IF(G68=\"\",\"\",DATEDIF(G68,Facesheet!$B$3,\"Y\"))","v":""},null,null,null,""]
[59,null,null,null,null,null,null,{"$f":"IF(G69=\"\",\"\",DATEDIF(G69,Facesheet!$B$3,\"Y\"))","v":""},null,null,null,""]
[60,null,null,null,null,null,null,{"$f":"IF(G70=\"\",\"\",DATEDIF(G70,Facesheet!$B$3,\"Y\"))","v":""},null,null,null,""]
["※青年は35歳以下、一般は39歳以下、壮年は各年代の者。"]

{"sheet":"2.バスケ","index":9,"n_rows":83,"n_cols":8,"rows_kept":83,"cut":false,"hidden":false,"merged":[[64,0,64,1],[64,3,64,6],[1,0,1,3],[62,0,62,7],[82,0,82,7],[25,0,25,1],[44,0,44,1],[44,3,44,6],[3,0,3,6],[24,0,24,6],[5,0,5,1],[5,3,5,6],[23,0,23,6]]}
[null,null,null,null,null,null,"申込書２"]
[{"$f":"\"第\"&Facesheet!$B$2&\"回福岡県民スポーツ大会\"","v":"第68回福岡県民スポーツ大会"}]
[]
["バスケットボール競技"]
["郡市名","（",{"$f":"①役員名簿!$B$7","v":0},"）"]
["【一般男子】",null,"区","　※福岡市・北九州市は区名を記入"]
[]
[null,"番号","氏　名","身長(cm)","生年月日","年齢","住　所"]
["監　督",null,null,null,null,{"$f":"IF(E9=\"\",\"\",DATEDIF(E9,Facesheet!$B$3,\"Y\"))","v":""}]
["選　手",null,null,null,null,{"$f":"IF(E10=\"\",\"\",DATEDIF(E10,Facesheet!$B$3,\"Y\"))","v":""}]
["選　手",null,null,null,null,{"$f":"IF(E11=\"\",\"\",DATEDIF(E11,Facesheet!$B$3,\"Y\"))","v":""}]
["選　手",null,null,null,null,{"$f":"IF(E12=\"\",\"\",DATEDIF(E12,Facesheet!$B$3,\"Y\"))","v":""}]
["選　手",null,null,null,null,{"$f":"IF(E13=\"\",\"\",DATEDIF(E13,Facesheet!$B$3,\"Y\"))","v":""}]
["選　手",null,null,null,null,{"$f":"IF(E14=\"\",\"\",DATEDIF(E14,Facesheet!$B$3,\"Y\"))","v":""}]
["選　手",null,null,null,null,{"$f":"IF(E15=\"\",\"\",DATEDIF(E15,Facesheet!$B$3,\"Y\"))","v":""}]
["選　手",null,null,null,null,{"$f":"IF(E16=\"\",\"\",DATEDIF(E16,Facesheet!$B$3,\"Y\"))","v":""}]
["選　手",null,null,null,null,{"$f":"IF(E17=\"\",\"\",DATEDIF(E17,Facesheet!$B$3,\"Y\"))","v":""}]
["選　手",null,null,null,null,{"$f":"IF(E18=\"\",\"\",DATEDIF(E18,Facesheet!$B$3,\"Y\"))","v":""}]
["選　手",null,null,null,null,{"$f":"IF(E19=\"\",\"\",DATEDIF(E19,Facesheet!$B$3,\"Y\"))","v":""}]
["選　手",null,null,null,null,{"$f":"IF(E20=\"\",\"\",DATEDIF(E20,Facesheet!$B$3,\"Y\"))","v":""}]
["選　手",null,null,null,null,{"$f":"IF(E21=\"\",\"\",DATEDIF(E21,Facesheet!$B$3,\"Y\"))","v":""}]
["コーチ",null,null,null,null,{"$f":"IF(E22=\"\",\"\",DATEDIF(E22,Facesheet!$B$3,\"Y\"))","v":""}]
["マネジャー",null,null,null,null,{"$f":"IF(E23=\"\",\"\",DATEDIF(E23,Facesheet!$B$3,\"Y\"))","v":""}]
["選手は、35歳以上の者。ただし、35歳未満の者が選手数の1/2に達しない範囲で参加できる。"]
["　 "]
["【一般女子】"]
[]
[null,"番号","氏　名","身長(cm)","生年月日","年齢","住　所"]
["監　督",null,null,null,null,{"$f":"IF(E29=\"\",\"\",DATEDIF(E29,Facesheet!$B$3,\"Y\"))","v":""}]
["選　手",null,null,null,null,{"$f":"IF(E30=\"\",\"\",DATEDIF(E30,Facesheet!$B$3,\"Y\"))","v":""}]
["選　手",null,null,null,null,{"$f":"IF(E31=\"\",\"\",DATEDIF(E31,Facesheet!$B$3,\"Y\"))","v":""}]
["選　手",null,null,null,null,{"$f":"IF(E32=\"\",\"\",DATEDIF(E32,Facesheet!$B$3,\"Y\"))","v":""}]
["選　手",null,null,null,null,{"$f":"IF(E33=\"\",\"\",DATEDIF(E33,Facesheet!$B$3,\"Y\"))","v":""}]
["選　手",null,null,null,null,{"$f":"IF(E34=\"\",\"\",DATEDIF(E34,Facesheet!$B$3,\"Y\"))","v":""}]
["選　手",null,null,null,null,{"$f":"IF(E35=\"\",\"\",DATEDIF(E35,Facesheet!$B$3,\"Y\"))","v":""}]
["選　手",null,null,null,null,{"$f":"IF(E36=\"\",\"\",DATEDIF(E36,Facesheet!$B$3,\"Y\"))","v":""}]
["選　手",null,null,null,null,{"$f":"IF(E37=\"\",\"\",DATEDIF(E37,Facesheet!$B$3,\"Y\"))","v":""}]
["選　手",null,null,null,null,{"$f":"IF(E38=\"\",\"\",DATEDIF(E38,Facesheet!$B$3,\"Y\"))","v":""}]
["選　手",null,null,null,null,{"$f":"IF(E39=\"\",\"\",DATEDIF(E39,Facesheet!$B$3,\"Y\"))","v":""}]
["選　手",null,null,null,null,{"$f":"IF(E40=\"\",\"\",DATEDIF(E40,Facesheet!$B$3,\"Y\"))","v":""}]
["選　手",null,null,null,null,{"$f":"IF(E41=\"\",\"\",DATEDIF(E41,Facesheet!$B$3,\"Y\"))","v":""}]
["コーチ",null,null,null,null,{"$f":"IF(E42=\"\",\"\",DATEDIF(E42,Facesheet!$B$3,\"Y\"))","v":""}]
["マネジャー",null,null,null,null,{"$f":"IF(E43=\"\",\"\",DATEDIF(E43,Facesheet!$B$3,\"Y\"))","v":""}]
[]
["【青年男子】",null,"区","　※福岡市・北九州市は区名を記入"]
[]
[null,"番号","氏　名","身長(cm)","生年月日","年齢","住　所","学生"]
["監　督",null,null,null,null,{"$f":"IF(E48=\"\",\"\",DATEDIF(E48,Facesheet!$B$3,\"Y\"))","v":""}]
["選　手",null,null,null,null,{"$f":"IF(E49=\"\",\"\",DATEDIF(E49,Facesheet!$B$3,\"Y\"))","v":""}]
["選　手",null,null,null,null,{"$f":"IF(E50=\"\",\"\",DATEDIF(E50,Facesheet!$B$3,\"Y\"))","v":""}]
["選　手",null,null,null,null,{"$f":"IF(E51=\"\",\"\",DATEDIF(E51,Facesheet!$B$3,\"Y\"))","v":""}]
["選　手",null,null,null,null,{"$f":"IF(E52=\"\",\"\",DATEDIF(E52,Facesheet!$B$3,\"Y\"))","v":""}]
["選　手",null,null,null,null,{"$f":"IF(E53=\"\",\"\",DATEDIF(E53,Facesheet!$B$3,\"Y\"))","v":""}]
["選　手",null,null,null,null,{"$f":"IF(E54=\"\",\"\",DATEDIF(E54,Facesheet!$B$3,\"Y\"))","v":""}]
["選　手",null,null,null,null,{"$f":"IF(E55=\"\",\"\",DATEDIF(E55,Facesheet!$B$3,\"Y\"))","v":""}]
["選　手",null,null,null,null,{"$f":"IF(E56=\"\",\"\",DATEDIF(E56,Facesheet!$B$3,\"Y\"))","v":""}]
["選　手",null,null,null,null,{"$f":"IF(E57=\"\",\"\",DATEDIF(E57,Facesheet!$B$3,\"Y\"))","v":""}]
["選　手",null,null,null,null,{"$f":"IF(E58=\"\",\"\",DATEDIF(E58,Facesheet!$B$3,\"Y\"))","v":""}]
["選　手",null,null,null,null,{"$f":"IF(E59=\"\",\"\",DATEDIF(E59,Facesheet!$B$3,\"Y\"))","v":""}]
["選　手",null,null,null,null,{"$f":"IF(E60=\"\",\"\",DATEDIF(E60,Facesheet!$B$3,\"Y\"))","v":""}]
["コーチ",null,null,null,null,{"$f":"IF(E61=\"\",\"\",DATEDIF(E61,Facesheet!$B$3,\"Y\"))","v":""}]
["マネジャー",null,null,null,null,{"$f":"IF(E62=\"\",\"\",DATEDIF(E62,Facesheet!$B$3,\"Y\"))","v":""}]
["選手は40歳以下の者。オーバーエイジ枠(2名)を認める。学生・生徒に該当する者は、学生欄に○印を記入(2名以内)。"]
[]
["【青年女子】",null,"区","　※福岡市・北九州市は区名を記入"]
[]
[null,"番号","氏　名","身長(cm)","生年月日","年齢","住　所","学生"]
["監　督",null,null,null,null,{"$f":"IF(E68=\"\",\"\",DATEDIF(E68,Facesheet!$B$3,\"Y\"))","v":""}]
["選　手",null,null,null,null,{"$f":"IF(E69=\"\",\"\",DATEDIF(E69,Facesheet!$B$3,\"Y\"))","v":""}]
["選　手",null,null,null,null,{"$f":"IF(E70=\"\",\"\",DATEDIF(E70,Facesheet!$B$3,\"Y\"))","v":""}]
["選　手",null,null,null,null,{"$f":"IF(E71=\"\",\"\",DATEDIF(E71,Facesheet!$B$3,\"Y\"))","v":""}]
["選　手",null,null,null,null,{"$f":"IF(E72=\"\",\"\",DATEDIF(E72,Facesheet!$B$3,\"Y\"))","v":""}]
["選　手",null,null,null,null,{"$f":"IF(E73=\"\",\"\",DATEDIF(E73,Facesheet!$B$3,\"Y\"))","v":""}]
["選　手",null,null,null,null,{"$f":"IF(E74=\"\",\"\",DATEDIF(E74,Facesheet!$B$3,\"Y\"))","v":""}]
["選　手",null,null,null,null,{"$f":"IF(E75=\"\",\"\",DATEDIF(E75,Facesheet!$B$3,\"Y\"))","v":""}]
["選　手",null,null,null,null,{"$f":"IF(E76=\"\",\"\",DATEDIF(E76,Facesheet!$B$3,\"Y\"))","v":""}]
["選　手",null,null,null,null,{"$f":"IF(E77=\"\",\"\",DATEDIF(E77,Facesheet!$B$3,\"Y\"))","v":""}]
["選　手",null,null,null,null,{"$f":"IF(E78=\"\",\"\",DATEDIF(E78,Facesheet!$B$3,\"Y\"))","v":""}]
["選　手",null,null,null,null,{"$f":"IF(E79=\"\",\"\",DATEDIF(E79,Facesheet!$B$3,\"Y\"))","v":""}]
["選　手",null,null,null,null,{"$f":"IF(E80=\"\",\"\",DATEDIF(E80,Facesheet!$B$3,\"Y\"))","v":""}]
["コーチ",null,null,null,null,{"$f":"IF(E81=\"\",\"\",DATEDIF(E81,Facesheet!$B$3,\"Y\"))","v":""}]
["マネジャー",null,null,null,null,{"$f":"IF(E82=\"\",\"\",DATEDIF(E82,Facesheet!$B$3,\"Y\"))","v":""}]
["選手は40歳以下の者。オーバーエイジ枠(2名)を認める。学生・生徒に該当する者は、学生欄に○印を記入(2名以内)。"]

{"sheet":"3.バレー","index":10,"n_rows":115,"n_cols":8,"rows_kept":115,"cut":false,"hidden":false,"merged":[[28,0,28,1],[28,3,28,6],[3,0,3,6],[6,3,6,6],[1,0,1,3],[27,0,27,6],[5,0,5,1],[5,3,5,6],[26,0,26,6],[94,0,94,7],[96,0,96,1],[96,3,96,6],[114,0,114,6],[50,0,50,1],[50,3,50,6],[71,0,71,7],[73,0,73,1],[73,3,73,6]]}
[null,null,null,null,null,null,"申込書３"]
[{"$f":"\"第\"&Facesheet!$B$2&\"回福岡県民スポーツ大会\"","v":"第68回福岡県民スポーツ大会"}]
[]
["バレーボール競技"]
["郡市名","（",{"$f":"①役員名簿!$B$7","v":0},"）"]
["【一般男子】",null,"区","　※福岡市・北九州市は区名を記入"]
[]
[null,"番号","氏　名","身長(cm)","生年月日","年齢","住　所"]
["監　督",null,null,null,null,{"$f":"IF(E9=\"\",\"\",DATEDIF(E9,Facesheet!$B$3,\"Y\"))","v":""}]
["選　手",null,null,null,null,{"$f":"IF(E10=\"\",\"\",DATEDIF(E10,Facesheet!$B$3,\"Y\"))","v":""}]
["選　手",null,null,null,null,{"$f":"IF(E11=\"\",\"\",DATEDIF(E11,Facesheet!$B$3,\"Y\"))","v":""}]
["選　手",null,null,null,null,{"$f":"IF(E12=\"\",\"\",DATEDIF(E12,Facesheet!$B$3,\"Y\"))","v":""}]
["選　手",null,null,null,null,{"$f":"IF(E13=\"\",\"\",DATEDIF(E13,Facesheet!$B$3,\"Y\"))","v":""}]
["選　手",null,null,null,null,{"$f":"IF(E14=\"\",\"\",DATEDIF(E14,Facesheet!$B$3,\"Y\"))","v":""}]
["選　手",null,null,null,null,{"$f":"IF(E15=\"\",\"\",DATEDIF(E15,Facesheet!$B$3,\"Y\"))","v":""}]
["選　手",null,null,null,null,{"$f":"IF(E16=\"\",\"\",DATEDIF(E16,Facesheet!$B$3,\"Y\"))","v":""}]
["選　手",null,null,null,null,{"$f":"IF(E17=\"\",\"\",DATEDIF(E17,Facesheet!$B$3,\"Y\"))","v":""}]
["選　手",null,null,null,null,{"$f":"IF(E18=\"\",\"\",DATEDIF(E18,Facesheet!$B$3,\"Y\"))","v":""}]
["選　手",null,null,null,null,{"$f":"IF(E19=\"\",\"\",DATEDIF(E19,Facesheet!$B$3,\"Y\"))","v":""}]
["選　手",null,null,null,null,{"$f":"IF(E20=\"\",\"\",DATEDIF(E20,Facesheet!$B$3,\"Y\"))","v":""}]
["選　手",null,null,null,null,{"$f":"IF(E21=\"\",\"\",DATEDIF(E21,Facesheet!$B$3,\"Y\"))","v":""}]
["選　手",null,null,null,null,{"$f":"IF(E22=\"\",\"\",DATEDIF(E22,Facesheet!$B$3,\"Y\"))","v":""}]
["選　手",null,null,null,null,{"$f":"IF(E23=\"\",\"\",DATEDIF(E23,Facesheet!$B$3,\"Y\"))","v":""}]
["選　手",null,null,null,null,{"$f":"IF(E24=\"\",\"\",DATEDIF(E24,Facesheet!$B$3,\"Y\"))","v":""}]
["コーチ",null,null,null,null,{"$f":"IF(E25=\"\",\"\",DATEDIF(E25,Facesheet!$B$3,\"Y\"))","v":""}]
["マネジャー",null,null,null,null,{"$f":"IF(E26=\"\",\"\",DATEDIF(E26,Facesheet!$B$3,\"Y\"))","v":""}]
["選手は、30歳以上の者。ただし、30歳未満の者が選手数の1/2に達しない範囲で参加できる。"]
[]
["【一般女子】",null,"区","　※福岡市・北九州市は区名を記入"]
[]
[null,"番号","氏　名","身長(cm)","生年月日","年齢","住　所"]
["監　督",null,null,null,null,{"$f":"IF(E32=\"\",\"\",DATEDIF(E32,Facesheet!$B$3,\"Y\"))","v":""}]
["選　手",null,null,null,null,{"$f":"IF(E33=\"\",\"\",DATEDIF(E33,Facesheet!$B$3,\"Y\"))","v":""}]
["選　手",null,null,null,null,{"$f":"IF(E34=\"\",\"\",DATEDIF(E34,Facesheet!$B$3,\"Y\"))","v":""}]
["選　手",null,null,null,null,{"$f":"IF(E35=\"\",\"\",DATEDIF(E35,Facesheet!$B$3,\"Y\"))","v":""}]
["選　手",null,null,null,null,{"$f":"IF(E36=\"\",\"\",DATEDIF(E36,Facesheet!$B$3,\"Y\"))","v":""}]
["選　手",null,null,null,null,{"$f":"IF(E37=\"\",\"\",DATEDIF(E37,Facesheet!$B$3,\"Y\"))","v":""}]
["選　手",null,null,null,null,{"$f":"IF(E38=\"\",\"\",DATEDIF(E38,Facesheet!$B$3,\"Y\"))","v":""}]
["選　手",null,null,null,null,{"$f":"IF(E39=\"\",\"\",DATEDIF(E39,Facesheet!$B$3,\"Y\"))","v":""}]
["選　手",null,null,null,null,{"$f":"IF(E40=\"\",\"\",DATEDIF(E40,Facesheet!$B$3,\"Y\"))","v":""}]
["選　手",null,null,null,null,{"$f":"IF(E41=\"\",\"\",DATEDIF(E41,Facesheet!$B$3,\"Y\"))","v":""}]
["選　手",null,null,null,null,{"$f":"IF(E42=\"\",\"\",DATEDIF(E42,Facesheet!$B$3,\"Y\"))","v":""}]
["選　手",null,null,null,null,{"$f":"IF(E43=\"\",\"\",DATEDIF(E43,Facesheet!$B$3,\"Y\"))","v":""}]
["選　手",null,null,null,null,{"$f":"IF(E44=\"\",\"\",DATEDIF(E44,Facesheet!$B$3,\"Y\"))","v":""}]
["選　手",null,null,null,null,{"$f":"IF(E45=\"\",\"\",DATEDIF(E45,Facesheet!$B$3,\"Y\"))","v":""}]
["選　手",null,null,null,null,{"$f":"IF(E46=\"\",\"\",DATEDIF(E46,Facesheet!$B$3,\"Y\"))","v":""}]
["選　手",null,null,null,null,{"$f":"IF(E47=\"\",\"\",DATEDIF(E47,Facesheet!$B$3,\"Y\"))","v":""}]
["コーチ",null,null,null,null,{"$f":"IF(E48=\"\",\"\",DATEDIF(E48,Facesheet!$B$3,\"Y\"))","v":""}]
["マネジャー",null,null,null,null,{"$f":"IF(E49=\"\",\"\",DATEDIF(E49,Facesheet!$B$3,\"Y\"))","v":""}]
[]
["【青年男子】",null,"区","　※福岡市・北九州市は区名を記入"]
[]
[null,"番号","氏　名","身長(cm)","生年月日","年齢","住　所","学生"]
["監　督",null,null,null,null,{"$f":"IF(E54=\"\",\"\",DATEDIF(E54,Facesheet!$B$3,\"Y\"))","v":""}]
["選　手",null,null,null,null,{"$f":"IF(E55=\"\",\"\",DATEDIF(E55,Facesheet!$B$3,\"Y\"))","v":""}]
["選　手",null,null,null,null,{"$f":"IF(E56=\"\",\"\",DATEDIF(E56,Facesheet!$B$3,\"Y\"))","v":""}]
["選　手",null,null,null,null,{"$f":"IF(E57=\"\",\"\",DATEDIF(E57,Facesheet!$B$3,\"Y\"))","v":""}]
["選　手",null,null,null,null,{"$f":"IF(E58=\"\",\"\",DATEDIF(E58,Facesheet!$B$3,\"Y\"))","v":""}]
["選　手",null,null,null,null,{"$f":"IF(E59=\"\",\"\",DATEDIF(E59,Facesheet!$B$3,\"Y\"))","v":""}]
["選　手",null,null,null,null,{"$f":"IF(E60=\"\",\"\",DATEDIF(E60,Facesheet!$B$3,\"Y\"))","v":""}]
["選　手",null,null,null,null,{"$f":"IF(E61=\"\",\"\",DATEDIF(E61,Facesheet!$B$3,\"Y\"))","v":""}]
["選　手",null,null,null,null,{"$f":"IF(E62=\"\",\"\",DATEDIF(E62,Facesheet!$B$3,\"Y\"))","v":""}]
["選　手",null,null,null,null,{"$f":"IF(E63=\"\",\"\",DATEDIF(E63,Facesheet!$B$3,\"Y\"))","v":""}]
["選　手",null,null,null,null,{"$f":"IF(E64=\"\",\"\",DATEDIF(E64,Facesheet!$B$3,\"Y\"))","v":""}]
["選　手",null,null,null,null,{"$f":"IF(E65=\"\",\"\",DATEDIF(E65,Facesheet!$B$3,\"Y\"))","v":""}]
["選　手",null,null,null,null,{"$f":"IF(E66=\"\",\"\",DATEDIF(E66,Facesheet!$B$3,\"Y\"))","v":""}]
["選　手",null,null,null,null,{"$f":"IF(E67=\"\",\"\",DATEDIF(E67,Facesheet!$B$3,\"Y\"))","v":""}]
["選　手",null,null,null,null,{"$f":"IF(E68=\"\",\"\",DATEDIF(E68,Facesheet!$B$3,\"Y\"))","v":""}]
["選　手",null,null,null,null,{"$f":"IF(E69=\"\",\"\",DATEDIF(E69,Facesheet!$B$3,\"Y\"))","v":""}]
["コーチ",null,null,null,null,{"$f":"IF(E70=\"\",\"\",DATEDIF(E70,Facesheet!$B$3,\"Y\"))","v":""}]
["マネジャー",null,null,null,null,{"$f":"IF(E71=\"\",\"\",DATEDIF(E71,Facesheet!$B$3,\"Y\"))","v":""}]
["選手は40歳以下の者。オーバーエイジ枠(3名)を認める。学生・生徒に該当する者は、学生欄に○印を記入(3名以内)。"]
[]
["【青年女子】",null,"区","　※福岡市・北九州市は区名を記入"]
[]
[null,"番号","氏　名","身長(cm)","生年月日","年齢","住　所","学生"]
["監　督",null,null,null,null,{"$f":"IF(E77=\"\",\"\",DATEDIF(E77,Facesheet!$B$3,\"Y\"))","v":""}]
["選　手",null,null,null,null,{"$f":"IF(E78=\"\",\"\",DATEDIF(E78,Facesheet!$B$3,\"Y\"))","v":""}]
["選　手",null,null,null,null,{"$f":"IF(E79=\"\",\"\",DATEDIF(E79,Facesheet!$B$3,\"Y\"))","v":""}]
["選　手",null,null,null,null,{"$f":"IF(E80=\"\",\"\",DATEDIF(E80,Facesheet!$B$3,\"Y\"))","v":""}]
["選　手",null,null,null,null,{"$f":"IF(E81=\"\",\"\",DATEDIF(E81,Facesheet!$B$3,\"Y\"))","v":""}]
["選　手",null,null,null,null,{"$f":"IF(E82=\"\",\"\",DATEDIF(E82,Facesheet!$B$3,\"Y\"))","v":""}]
["選　手",null,null,null,null,{"$f":"IF(E83=\"\",\"\",DATEDIF(E83,Facesheet!$B$3,\"Y\"))","v":""}]
["選　手",null,null,null,null,{"$f":"IF(E84=\"\",\"\",DATEDIF(E84,Facesheet!$B$3,\"Y\"))","v":""}]
["選　手",null,null,null,null,{"$f":"IF(E85=\"\",\"\",DATEDIF(E85,Facesheet!$B$3,\"Y\"))","v":""}]
["選　手",null,null,null,null,{"$f":"IF(E86=\"\",\"\",DATEDIF(E86,Facesheet!$B$3,\"Y\"))","v":""}]
["選　手",null,null,null,null,{"$f":"IF(E87=\"\",\"\",DATEDIF(E87,Facesheet!$B$3,\"Y\"))","v":""}]
["選　手",null,null,null,null,{"$f":"IF(E88=\"\",\"\",DATEDIF(E88,Facesheet!$B$3,\"Y\"))","v":""}]
["選　手",null,null,null,null,{"$f":"IF(E89=\"\",\"\",DATEDIF(E89,Facesheet!$B$3,\"Y\"))","v":""}]
["選　手",null,null,null,null,{"$f":"IF(E90=\"\",\"\",DATEDIF(E90,Facesheet!$B$3,\"Y\"))","v":""}]
["選　手",null,null,null,null,{"$f":"IF(E91=\"\",\"\",DATEDIF(E91,Facesheet!$B$3,\"Y\"))","v":""}]
["選　手",null,null,null,null,{"$f":"IF(E92=\"\",\"\",DATEDIF(E92,Facesheet!$B$3,\"Y\"))","v":""}]
["コーチ",null,null,null,null,{"$f":"IF(E93=\"\",\"\",DATEDIF(E93,Facesheet!$B$3,\"Y\"))","v":""}]
["マネジャー",null,null,null,null,{"$f":"IF(E94=\"\",\"\",DATEDIF(E94,Facesheet!$B$3,\"Y\"))","v":""}]
["選手は40歳以下の者。オーバーエイジ枠(3名)を認める。学生・生徒に該当する者は、学生欄に○印を記入(3名以内)。"]
[]
["【壮年女子】",null,"区","　※福岡市・北九州市は区名を記入"]
[]
[null,"番号","氏　名","身長(cm)","生年月日","年齢","住　所"]
["監　督",null,null,null,null,{"$f":"IF(E100=\"\",\"\",DATEDIF(E100,Facesheet!$B$3,\"Y\"))","v":""}]
["選　手",null,null,null,null,{"$f":"IF(E101=\"\",\"\",DATEDIF(E101,Facesheet!$B$3,\"Y\"))","v":""}]
["選　手",null,null,null,null,{"$f":"IF(E102=\"\",\"\",DATEDIF(E102,Facesheet!$B$3,\"Y\"))","v":""}]
["選　手",null,null,null,null,{"$f":"IF(E103=\"\",\"\",DATEDIF(E103,Facesheet!$B$3,\"Y\"))","v":""}]
["選　手",null,null,null,null,{"$f":"IF(E104=\"\",\"\",DATEDIF(E104,Facesheet!$B$3,\"Y\"))","v":""}]
["選　手",null,null,null,null,{"$f":"IF(E105=\"\",\"\",DATEDIF(E105,Facesheet!$B$3,\"Y\"))","v":""}]
["選　手",null,null,null,null,{"$f":"IF(E106=\"\",\"\",DATEDIF(E106,Facesheet!$B$3,\"Y\"))","v":""}]
["選　手",null,null,null,null,{"$f":"IF(E107=\"\",\"\",DATEDIF(E107,Facesheet!$B$3,\"Y\"))","v":""}]
["選　手",null,null,null,null,{"$f":"IF(E108=\"\",\"\",DATEDIF(E108,Facesheet!$B$3,\"Y\"))","v":""}]
["選　手",null,null,null,null,{"$f":"IF(E109=\"\",\"\",DATEDIF(E109,Facesheet!$B$3,\"Y\"))","v":""}]
["選　手",null,null,null,null,{"$f":"IF(E110=\"\",\"\",DATEDIF(E110,Facesheet!$B$3,\"Y\"))","v":""}]
["選　手",null,null,null,null,{"$f":"IF(E111=\"\",\"\",DATEDIF(E111,Facesheet!$B$3,\"Y\"))","v":""}]
["選　手",null,null,null,null,{"$f":"IF(E112=\"\",\"\",DATEDIF(E112,Facesheet!$B$3,\"Y\"))","v":""}]
["コーチ",null,null,null,null,{"$f":"IF(E113=\"\",\"\",DATEDIF(E113,Facesheet!$B$3,\"Y\"))","v":""}]
["マネジャー",null,null,null,null,{"$f":"IF(E114=\"\",\"\",DATEDIF(E114,Facesheet!$B$3,\"Y\"))","v":""}]
["選手は、35歳以上の者。"]

{"sheet":"4.ソフトテニス","index":11,"n_rows":70,"n_cols":6,"rows_kept":70,"cut":false,"hidden":false,"merged":[[1,0,1,3],[3,0,3,5],[7,0,7,1],[8,0,8,1],[15,0,15,1],[5,0,5,1],[18,0,18,1],[20,0,20,1],[21,0,21,1],[22,0,23,0],[16,0,16,1],[24,0,25,0],[26,0,27,0],[28,0,28,1],[29,0,29,1],[30,0,30,5],[32,0,32,1],[34,0,34,1],[35,0,35,1],[36,0,37,0],[38,0,39,0],[40,0,41,0],[42,0,42,1],[43,0,43,1],[45,0,45,1],[47,0,47,1],[48,0,48,1],[49,0,50,0],[51,0,52,0],[53,0,54,0],[55,0,55,1],[64,0,65,0],[66,0,67,0],[68,0,68,1],[69,0,69,1],[56,0,56,1],[58,0,58,1],[60,0,60,1],[61,0,61,1],[62,0,63,0]]}
[null,null,null,null,null,"申込書４"]
[{"$f":"\"第\"&Facesheet!$B$2&\"回福岡県民スポーツ大会\"","v":"第68回福岡県民スポーツ大会"}]
[]
["ソフトテニス競技"]
[null,"郡市名（",{"$f":"①役員名簿!$B$7","v":0},"）"]
["【一般】",null,null,"男子6名以内、女子4名以内、総数8名以内"]
[]
[null,null,"氏　名","生年月日","年齢","住　所"]
["監　督",null,null,null,{"$f":"IF(D9=\"\",\"\",DATEDIF(D9,Facesheet!$B$3,\"Y\"))","v":""}]
["男　子","選　手",null,null,{"$f":"IF(D10=\"\",\"\",DATEDIF(D10,Facesheet!$B$3,\"Y\"))","v":""}]
["男　子","選　手",null,null,{"$f":"IF(D11=\"\",\"\",DATEDIF(D11,Facesheet!$B$3,\"Y\"))","v":""}]
["男　子","選　手",null,null,{"$f":"IF(D12=\"\",\"\",DATEDIF(D12,Facesheet!$B$3,\"Y\"))","v":""}]
["男　子","選　手",null,null,{"$f":"IF(D13=\"\",\"\",DATEDIF(D13,Facesheet!$B$3,\"Y\"))","v":""}]
["女　子","選　手",null,null,{"$f":"IF(D14=\"\",\"\",DATEDIF(D14,Facesheet!$B$3,\"Y\"))","v":""}]
["女　子","選　手",null,null,{"$f":"IF(D15=\"\",\"\",DATEDIF(D15,Facesheet!$B$3,\"Y\"))","v":""}]
["交代選手（男子・女子）",null,null,null,{"$f":"IF(D16=\"\",\"\",DATEDIF(D16,Facesheet!$B$3,\"Y\"))","v":""}]
["交代選手（男子・女子）",null,null,null,{"$f":"IF(D17=\"\",\"\",DATEDIF(D17,Facesheet!$B$3,\"Y\"))","v":""}]
[]
["【壮年】",null,"A","（福岡市・北九州市は4ﾁｰﾑ以内、久留米市は2ﾁｰﾑ以内）"]
[]
[null,null,"氏　名","生年月日","年齢","住　所"]
["監　督",null,null,null,{"$f":"IF(D22=\"\",\"\",DATEDIF(D22,Facesheet!$B$3,\"Y\"))","v":""}]
["男子\n複45","選　手",null,null,{"$f":"IF(D23=\"\",\"\",DATEDIF(D23,Facesheet!$B$3,\"Y\"))","v":""}]
[null,"選　手",null,null,{"$f":"IF(D24=\"\",\"\",DATEDIF(D24,Facesheet!$B$3,\"Y\"))","v":""}]
["女子\n複45","選　手",null,null,{"$f":"IF(D25=\"\",\"\",DATEDIF(D25,Facesheet!$B$3,\"Y\"))","v":""}]
[null,"選　手",null,null,{"$f":"IF(D26=\"\",\"\",DATEDIF(D26,Facesheet!$B$3,\"Y\"))","v":""}]
["男子\n複55","選　手",null,null,{"$f":"IF(D27=\"\",\"\",DATEDIF(D27,Facesheet!$B$3,\"Y\"))","v":""}]
[null,"選　手",null,null,{"$f":"IF(D28=\"\",\"\",DATEDIF(D28,Facesheet!$B$3,\"Y\"))","v":""}]
["交代選手（男子・女子）",null,null,null,{"$f":"IF(D29=\"\",\"\",DATEDIF(D29,Facesheet!$B$3,\"Y\"))","v":""}]
["交代選手（男子・女子）",null,null,null,{"$f":"IF(D30=\"\",\"\",DATEDIF(D30,Facesheet!$B$3,\"Y\"))","v":""}]
["男女複45は、45歳以上の者。男子複55は、55歳以上の者。"]
[]
["【壮年】",null,"B"]
[]
[null,null,"氏　名","生年月日","年齢","住　所"]
["監　督",null,null,null,{"$f":"IF(D36=\"\",\"\",DATEDIF(D36,Facesheet!$B$3,\"Y\"))","v":""}]
["男子\n複45","選　手",null,null,{"$f":"IF(D37=\"\",\"\",DATEDIF(D37,Facesheet!$B$3,\"Y\"))","v":""}]
[null,"選　手",null,null,{"$f":"IF(D38=\"\",\"\",DATEDIF(D38,Facesheet!$B$3,\"Y\"))","v":""}]
["女子\n複45","選　手",null,null,{"$f":"IF(D39=\"\",\"\",DATEDIF(D39,Facesheet!$B$3,\"Y\"))","v":""}]
[null,"選　手",null,null,{"$f":"IF(D40=\"\",\"\",DATEDIF(D40,Facesheet!$B$3,\"Y\"))","v":""}]
["男子\n複55","選　手",null,null,{"$f":"IF(D41=\"\",\"\",DATEDIF(D41,Facesheet!$B$3,\"Y\"))","v":""}]
[null,"選　手",null,null,{"$f":"IF(D42=\"\",\"\",DATEDIF(D42,Facesheet!$B$3,\"Y\"))","v":""}]
["交代選手（男子・女子）",null,null,null,{"$f":"IF(D43=\"\",\"\",DATEDIF(D43,Facesheet!$B$3,\"Y\"))","v":""}]
["交代選手（男子・女子）",null,null,null,{"$f":"IF(D44=\"\",\"\",DATEDIF(D44,Facesheet!$B$3,\"Y\"))","v":""}]
[]
["【壮年】",null,"C"]
[]
[null,null,"氏　名","生年月日","年齢","住　所"]
["監　督",null,null,null,{"$f":"IF(D49=\"\",\"\",DATEDIF(D49,Facesheet!$B$3,\"Y\"))","v":""}]
["男子\n複45","選　手",null,null,{"$f":"IF(D50=\"\",\"\",DATEDIF(D50,Facesheet!$B$3,\"Y\"))","v":""}]
[null,"選　手",null,null,{"$f":"IF(D51=\"\",\"\",DATEDIF(D51,Facesheet!$B$3,\"Y\"))","v":""}]
["女子\n複45","選　手",null,null,{"$f":"IF(D52=\"\",\"\",DATEDIF(D52,Facesheet!$B$3,\"Y\"))","v":""}]
[null,"選　手",null,null,{"$f":"IF(D53=\"\",\"\",DATEDIF(D53,Facesheet!$B$3,\"Y\"))","v":""}]
["男子\n複55","選　手",null,null,{"$f":"IF(D54=\"\",\"\",DATEDIF(D54,Facesheet!$B$3,\"Y\"))","v":""}]
[null,"選　手",null,null,{"$f":"IF(D55=\"\",\"\",DATEDIF(D55,Facesheet!$B$3,\"Y\"))","v":""}]
["交代選手（男子・女子）",null,null,null,{"$f":"IF(D56=\"\",\"\",DATEDIF(D56,Facesheet!$B$3,\"Y\"))","v":""}]
["交代選手（男子・女子）",null,null,null,{"$f":"IF(D57=\"\",\"\",DATEDIF(D57,Facesheet!$B$3,\"Y\"))","v":""}]
[]
["【壮年】",null,"D"]
[]
[null,null,"氏　名","生年月日","年齢","住　所"]
["監　督",null,null,null,{"$f":"IF(D62=\"\",\"\",DATEDIF(D62,Facesheet!$B$3,\"Y\"))","v":""}]
["男子\n複45","選　手",null,null,{"$f":"IF(D63=\"\",\"\",DATEDIF(D63,Facesheet!$B$3,\"Y\"))","v":""}]
[null,"選　手",null,null,{"$f":"IF(D64=\"\",\"\",DATEDIF(D64,Facesheet!$B$3,\"Y\"))","v":""}]
["女子\n複45","選　手",null,null,{"$f":"IF(D65=\"\",\"\",DATEDIF(D65,Facesheet!$B$3,\"Y\"))","v":""}]
[null,"選　手",null,null,{"$f":"IF(D66=\"\",\"\",DATEDIF(D66,Facesheet!$B$3,\"Y\"))","v":""}]
["男子\n複55","選　手",null,null,{"$f":"IF(D67=\"\",\"\",DATEDIF(D67,Facesheet!$B$3,\"Y\"))","v":""}]
[null,"選　手",null,null,{"$f":"IF(D68=\"\",\"\",DATEDIF(D68,Facesheet!$B$3,\"Y\"))","v":""}]
["交代選手（男子・女子）",null,null,null,{"$f":"IF(D69=\"\",\"\",DATEDIF(D69,Facesheet!$B$3,\"Y\"))","v":""}]
["交代選手（男子・女子）",null,null,null,{"$f":"IF(D70=\"\",\"\",DATEDIF(D70,Facesheet!$B$3,\"Y\"))","v":""}]

{"sheet":"5.卓球","index":12,"n_rows":43,"n_cols":7,"rows_kept":43,"cut":false,"hidden":false,"merged":[[1,0,1,3],[27,0,27,6],[30,2,30,5],[42,0,42,5],[28,0,28,6],[3,0,3,5],[5,2,5,5],[15,0,15,5],[17,2,17,5]]}
[null,null,null,null,null,"申込書５"]
[{"$f":"\"第\"&Facesheet!$B$2&\"回福岡県民スポーツ大会\"","v":"第68回福岡県民スポーツ大会"}]
[]
["卓球競技"]
["郡市名（",{"$f":"①役員名簿!$B$7","v":0},")"]
["【一般】","区","　※福岡市・北九州市は区名を記入"]
[]
[null,"氏　名","性別","生年月日","年齢","住　所"]
["監　督",null,null,null,{"$f":"IF(D9=\"\",\"\",DATEDIF(D9,Facesheet!$B$3,\"Y\"))","v":""}]
["選　手",null,null,null,{"$f":"IF(D10=\"\",\"\",DATEDIF(D10,Facesheet!$B$3,\"Y\"))","v":""}]
["選　手",null,null,null,{"$f":"IF(D11=\"\",\"\",DATEDIF(D11,Facesheet!$B$3,\"Y\"))","v":""}]
["選　手",null,null,null,{"$f":"IF(D12=\"\",\"\",DATEDIF(D12,Facesheet!$B$3,\"Y\"))","v":""}]
["選　手",null,null,null,{"$f":"IF(D13=\"\",\"\",DATEDIF(D13,Facesheet!$B$3,\"Y\"))","v":""}]
["選　手",null,null,null,{"$f":"IF(D14=\"\",\"\",DATEDIF(D14,Facesheet!$B$3,\"Y\"))","v":""}]
["選　手",null,null,null,{"$f":"IF(D15=\"\",\"\",DATEDIF(D15,Facesheet!$B$3,\"Y\"))","v":""}]
["選手は、男女各3名以内で構成すること。"]
[]
["【青年】","区","　※福岡市・北九州市は区名を記入"]
[]
[null,"氏　名","性別","生年月日","年齢","住　所","学生"]
["監　督",null,null,null,{"$f":"IF(D21=\"\",\"\",DATEDIF(D21,Facesheet!$B$3,\"Y\"))","v":""}]
["選　手",null,null,null,{"$f":"IF(D22=\"\",\"\",DATEDIF(D22,Facesheet!$B$3,\"Y\"))","v":""}]
["選　手",null,null,null,{"$f":"IF(D23=\"\",\"\",DATEDIF(D23,Facesheet!$B$3,\"Y\"))","v":""}]
["選　手",null,null,null,{"$f":"IF(D24=\"\",\"\",DATEDIF(D24,Facesheet!$B$3,\"Y\"))","v":""}]
["選　手",null,null,null,{"$f":"IF(D25=\"\",\"\",DATEDIF(D25,Facesheet!$B$3,\"Y\"))","v":""}]
["選　手",null,null,null,{"$f":"IF(D26=\"\",\"\",DATEDIF(D26,Facesheet!$B$3,\"Y\"))","v":""}]
["選　手",null,null,null,{"$f":"IF(D27=\"\",\"\",DATEDIF(D27,Facesheet!$B$3,\"Y\"))","v":""}]
["選手は、40歳以下の者で男女各3名以内で構成すること。オーバーエイジ枠(男女各1名)を認める。"]
["学生・生徒に該当する者は、学生欄に○印を記入(男女各1名以内)。"]
[]
["【壮年】","区","　※福岡市・北九州市は区名を記入"]
[]
[null,"氏　名","性別","生年月日","年齢","住　所"]
["監　督",null,null,null,{"$f":"IF(D34=\"\",\"\",DATEDIF(D34,Facesheet!$B$3,\"Y\"))","v":""}]
["選　手",null,null,null,{"$f":"IF(D35=\"\",\"\",DATEDIF(D35,Facesheet!$B$3,\"Y\"))","v":""}]
["選　手",null,null,null,{"$f":"IF(D36=\"\",\"\",DATEDIF(D36,Facesheet!$B$3,\"Y\"))","v":""}]
["選　手",null,null,null,{"$f":"IF(D37=\"\",\"\",DATEDIF(D37,Facesheet!$B$3,\"Y\"))","v":""}]
["選　手",null,null,null,{"$f":"IF(D38=\"\",\"\",DATEDIF(D38,Facesheet!$B$3,\"Y\"))","v":""}]
["選　手",null,null,null,{"$f":"IF(D39=\"\",\"\",DATEDIF(D39,Facesheet!$B$3,\"Y\"))","v":""}]
["選　手",null,null,null,{"$f":"IF(D40=\"\",\"\",DATEDIF(D40,Facesheet!$B$3,\"Y\"))","v":""}]
["選　手",null,null,null,{"$f":"IF(D41=\"\",\"\",DATEDIF(D41,Facesheet!$B$3,\"Y\"))","v":""}]
["選　手",null,null,null,{"$f":"IF(D42=\"\",\"\",DATEDIF(D42,Facesheet!$B$3,\"Y\"))","v":""}]
["選手は、70歳代を含む男女各4名以内で構成すること。"]

{"sheet":"6.バド","index":13,"n_rows":81,"n_cols":10,"rows_kept":81,"cut":false,"hidden":false,"merged":[[3,0,3,5],[1,0,1,2],[5,2,5,5],[15,0,15,5],[42,0,42,5],[55,0,55,4],[68,0,68,4],[80,0,80,4],[16,0,16,5],[18,2,18,5],[29,0,29,5],[30,0,30,5],[32,2,32,5]]}
[null,null,null,null,null,"申込書６"]
[{"$f":"\"第\"&Facesheet!$B$2&\"回福岡県民スポーツ大会\"","v":"第68回福岡県民スポーツ大会"}]
[]
["バドミントン競技"]
["郡市名（",{"$f":"①役員名簿!$B$7","v":0},"）"]
["【一般男子】","区","　※福岡市・北九州市は区名を記入"]
[]
[null,"氏　名","生年月日","年齢","住　所","ふるさと"]
["監　督",null,null,{"$f":"IF(C9=\"\",\"\",DATEDIF(C9,Facesheet!$B$3,\"Y\"))","v":""},null,null,null,null,null,"○"]
["選　手",null,null,{"$f":"IF(C10=\"\",\"\",DATEDIF(C10,Facesheet!$B$3,\"Y\"))","v":""}]
["選　手",null,null,{"$f":"IF(C11=\"\",\"\",DATEDIF(C11,Facesheet!$B$3,\"Y\"))","v":""}]
["選　手",null,null,{"$f":"IF(C12=\"\",\"\",DATEDIF(C12,Facesheet!$B$3,\"Y\"))","v":""}]
["選　手",null,null,{"$f":"IF(C13=\"\",\"\",DATEDIF(C13,Facesheet!$B$3,\"Y\"))","v":""}]
["選　手",null,null,{"$f":"IF(C14=\"\",\"\",DATEDIF(C14,Facesheet!$B$3,\"Y\"))","v":""}]
["選　手",null,null,{"$f":"IF(C15=\"\",\"\",DATEDIF(C15,Facesheet!$B$3,\"Y\"))","v":""}]
["他郡市在住であっても、出身中学校所在地の郡市から「ふるさと選手」としての出場を認める。ただし、選手数の"]
["1/2以内。該当する選手は、ふるさと欄に○印を記入すること。"]
[]
["【一般女子】","区","　※福岡市・北九州市は区名を記入"]
[]
[null,"氏　名","生年月日","年齢","住　所","ふるさと"]
["監　督",null,null,{"$f":"IF(C22=\"\",\"\",DATEDIF(C22,Facesheet!$B$3,\"Y\"))","v":""}]
["選　手",null,null,{"$f":"IF(C23=\"\",\"\",DATEDIF(C23,Facesheet!$B$3,\"Y\"))","v":""}]
["選　手",null,null,{"$f":"IF(C24=\"\",\"\",DATEDIF(C24,Facesheet!$B$3,\"Y\"))","v":""}]
["選　手",null,null,{"$f":"IF(C25=\"\",\"\",DATEDIF(C25,Facesheet!$B$3,\"Y\"))","v":""}]
["選　手",null,null,{"$f":"IF(C26=\"\",\"\",DATEDIF(C26,Facesheet!$B$3,\"Y\"))","v":""}]
["選　手",null,null,{"$f":"IF(C27=\"\",\"\",DATEDIF(C27,Facesheet!$B$3,\"Y\"))","v":""}]
["選　手",null,null,{"$f":"IF(C28=\"\",\"\",DATEDIF(C28,Facesheet!$B$3,\"Y\"))","v":""}]
["選　手",null,null,{"$f":"IF(C29=\"\",\"\",DATEDIF(C29,Facesheet!$B$3,\"Y\"))","v":""}]
["他郡市在住であっても、出身中学校所在地の郡市から「ふるさと選手」としての出場を認める。ただし、選手数の"]
["1/2以内。該当する選手は、ふるさと欄に○印を記入すること。"]
[]
["【青年】","区","　※福岡市・北九州市は区名を記入"]
[]
[null,"氏　名","生年月日","年齢","住　所","学生"]
["監　督",null,null,{"$f":"IF(C36=\"\",\"\",DATEDIF(C36,Facesheet!$B$3,\"Y\"))","v":""}]
["選　手（男子）",null,null,{"$f":"IF(C37=\"\",\"\",DATEDIF(C37,Facesheet!$B$3,\"Y\"))","v":""}]
["選　手（男子）",null,null,{"$f":"IF(C38=\"\",\"\",DATEDIF(C38,Facesheet!$B$3,\"Y\"))","v":""}]
["選　手（男子）",null,null,{"$f":"IF(C39=\"\",\"\",DATEDIF(C39,Facesheet!$B$3,\"Y\"))","v":""}]
["選　手（女子）",null,null,{"$f":"IF(C40=\"\",\"\",DATEDIF(C40,Facesheet!$B$3,\"Y\"))","v":""}]
["選　手（女子）",null,null,{"$f":"IF(C41=\"\",\"\",DATEDIF(C41,Facesheet!$B$3,\"Y\"))","v":""}]
["選　手（女子）",null,null,{"$f":"IF(C42=\"\",\"\",DATEDIF(C42,Facesheet!$B$3,\"Y\"))","v":""}]
["選手は、40歳以下の者で男女各3名で構成すること。学生・生徒に該当する者は、学生欄に○印を記入(男女各1名以内)。"]
[]
["【壮年男子】"]
[]
[null,"氏　名","生年月日","年齢","住　所"]
["監　督",null,null,{"$f":"IF(C48=\"\",\"\",DATEDIF(C48,Facesheet!$B$3,\"Y\"))","v":""}]
["選　手",null,null,{"$f":"IF(C49=\"\",\"\",DATEDIF(C49,Facesheet!$B$3,\"Y\"))","v":""}]
["選　手",null,null,{"$f":"IF(C50=\"\",\"\",DATEDIF(C50,Facesheet!$B$3,\"Y\"))","v":""}]
["選　手",null,null,{"$f":"IF(C51=\"\",\"\",DATEDIF(C51,Facesheet!$B$3,\"Y\"))","v":""}]
["選　手",null,null,{"$f":"IF(C52=\"\",\"\",DATEDIF(C52,Facesheet!$B$3,\"Y\"))","v":""}]
["選　手",null,null,{"$f":"IF(C53=\"\",\"\",DATEDIF(C53,Facesheet!$B$3,\"Y\"))","v":""}]
["選　手",null,null,{"$f":"IF(C54=\"\",\"\",DATEDIF(C54,Facesheet!$B$3,\"Y\"))","v":""}]
["選　手",null,null,{"$f":"IF(C55=\"\",\"\",DATEDIF(C55,Facesheet!$B$3,\"Y\"))","v":""}]
["選手は、40歳以上の者。"]
[]
["【壮年女子】"]
[]
[null,"氏　名","生年月日","年齢","住　所"]
["監　督",null,null,{"$f":"IF(C61=\"\",\"\",DATEDIF(C61,Facesheet!$B$3,\"Y\"))","v":""}]
["選　手",null,null,{"$f":"IF(C62=\"\",\"\",DATEDIF(C62,Facesheet!$B$3,\"Y\"))","v":""}]
["選　手",null,null,{"$f":"IF(C63=\"\",\"\",DATEDIF(C63,Facesheet!$B$3,\"Y\"))","v":""}]
["選　手",null,null,{"$f":"IF(C64=\"\",\"\",DATEDIF(C64,Facesheet!$B$3,\"Y\"))","v":""}]
["選　手",null,null,{"$f":"IF(C65=\"\",\"\",DATEDIF(C65,Facesheet!$B$3,\"Y\"))","v":""}]
["選　手",null,null,{"$f":"IF(C66=\"\",\"\",DATEDIF(C66,Facesheet!$B$3,\"Y\"))","v":""}]
["選　手",null,null,{"$f":"IF(C67=\"\",\"\",DATEDIF(C67,Facesheet!$B$3,\"Y\"))","v":""}]
["選　手",null,null,{"$f":"IF(C68=\"\",\"\",DATEDIF(C68,Facesheet!$B$3,\"Y\"))","v":""}]
["選手は、40歳以上の者。"]
[]
["【壮年混成】"]
[]
[null,"氏　名","生年月日","年齢","住　所"]
["監　督",null,null,{"$f":"IF(C74=\"\",\"\",DATEDIF(C74,Facesheet!$B$3,\"Y\"))","v":""}]
["選　手（男子）",null,null,{"$f":"IF(C75=\"\",\"\",DATEDIF(C75,Facesheet!$B$3,\"Y\"))","v":""}]
["選　手（男子）",null,null,{"$f":"IF(C76=\"\",\"\",DATEDIF(C76,Facesheet!$B$3,\"Y\"))","v":""}]
["選　手（男子）",null,null,{"$f":"IF(C77=\"\",\"\",DATEDIF(C77,Facesheet!$B$3,\"Y\"))","v":""}]
["選　手（女子）",null,null,{"$f":"IF(C78=\"\",\"\",DATEDIF(C78,Facesheet!$B$3,\"Y\"))","v":""}]
["選　手（女子）",null,null,{"$f":"IF(C79=\"\",\"\",DATEDIF(C79,Facesheet!$B$3,\"Y\"))","v":""}]
["選　手（女子）",null,null,{"$f":"IF(C80=\"\",\"\",DATEDIF(C80,Facesheet!$B$3,\"Y\"))","v":""}]
["選手は、55歳以上の者で男女各3名で構成すること。"]

{"sheet":"バド　壮年名簿","index":14,"n_rows":27,"n_cols":6,"rows_kept":27,"cut":false,"hidden":true,"merged":[]}
[]
[]
[]
[]
[null,null,{"$f":"'6.バド'!B48","v":0},{"$f":"IF('6.バド'!B48=\"\", \"\", '6.バド'!B48)","v":""}]
[null,null,{"$f":"'6.バド'!B49","v":0},{"$f":"IF('6.バド'!B49=\"\", \"\", '6.バド'!B49)","v":""},null,"B1: =IF('6.バド'!B48=\"\", \"\", '6.バド'!B48)"]
[null,null,{"$f":"'6.バド'!B50","v":0},{"$f":"IF('6.バド'!B50=\"\", \"\", '6.バド'!B50)","v":""}]
[null,null,{"$f":"'6.バド'!B51","v":0},{"$f":"IF('6.バド'!B51=\"\", \"\", '6.バド'!B51)","v":""}]
[null,null,{"$f":"'6.バド'!B52","v":0},{"$f":"IF('6.バド'!B52=\"\", \"\", '6.バド'!B52)","v":""}]
[null,null,{"$f":"'6.バド'!B53","v":0},{"$f":"IF('6.バド'!B53=\"\", \"\", '6.バド'!B53)","v":""}]
[null,null,{"$f":"'6.バド'!B54","v":0},{"$f":"IF('6.バド'!B54=\"\", \"\", '6.バド'!B54)","v":""}]
[null,null,{"$f":"'6.バド'!B55","v":0},{"$f":"IF('6.バド'!B55=\"\", \"\", '6.バド'!B55)","v":""}]
[null,null,{"$f":"'6.バド'!B61","v":0},{"$f":"IF('6.バド'!B61=\"\", \"\", '6.バド'!B61)","v":""}]
[null,null,{"$f":"'6.バド'!B62","v":0},{"$f":"IF('6.バド'!B62=\"\", \"\", '6.バド'!B62)","v":""}]
[null,null,{"$f":"'6.バド'!B63","v":0},{"$f":"IF('6.バド'!B63=\"\", \"\", '6.バド'!B63)","v":""}]
[null,null,{"$f":"'6.バド'!B64","v":0},{"$f":"IF('6.バド'!B64=\"\", \"\", '6.バド'!B64)","v":""}]
[null,null,{"$f":"'6.バド'!B65","v":0},{"$f":"IF('6.バド'!B65=\"\", \"\", '6.バド'!B65)","v":""}]
[null,null,{"$f":"'6.バド'!B66","v":0},{"$f":"IF('6.バド'!B66=\"\", \"\", '6.バド'!B66)","v":""}]
[null,null,{"$f":"'6.バド'!B67","v":0},{"$f":"IF('6.バド'!B67=\"\", \"\", '6.バド'!B67)","v":""}]
[null,null,{"$f":"'6.バド'!B68","v":0},{"$f":"IF('6.バド'!B68=\"\", \"\", '6.バド'!B68)","v":""}]
[null,null,{"$f":"'6.バド'!B74","v":0},{"$f":"IF('6.バド'!B74=\"\", \"\", '6.バド'!B74)","v":""}]
[null,null,{"$f":"'6.バド'!B75","v":0},{"$f":"IF('6.バド'!B75=\"\", \"\", '6.バド'!B75)","v":""}]
[null,null,{"$f":"'6.バド'!B76","v":0},{"$f":"IF('6.バド'!B76=\"\", \"\", '6.バド'!B76)","v":""}]
[null,null,{"$f":"'6.バド'!B77","v":0},{"$f":"IF('6.バド'!B77=\"\", \"\", '6.バド'!B77)","v":""}]
[null,null,{"$f":"'6.バド'!B78","v":0},{"$f":"IF('6.バド'!B78=\"\", \"\", '6.バド'!B78)","v":""}]
[null,null,{"$f":"'6.バド'!B79","v":0},{"$f":"IF('6.バド'!B79=\"\", \"\", '6.バド'!B79)","v":""}]
[null,null,{"$f":"'6.バド'!B80","v":0},{"$f":"IF('6.バド'!B80=\"\", \"\", '6.バド'!B80)","v":""}]

{"sheet":"7.柔道","index":15,"n_rows":70,"n_cols":16,"rows_kept":70,"cut":false,"hidden":false,"merged":[[71,0,71,8],[58,0,58,8],[59,0,59,8],[60,0,60,8],[51,0,51,1],[52,0,52,1],[57,0,57,8],[62,0,62,1],[62,3,62,5],[62,6,62,7],[70,0,70,8],[64,0,64,1],[65,0,65,1],[49,0,49,1],[49,3,49,5],[49,6,49,7],[38,0,38,1],[39,0,39,1],[41,1,42,1],[43,1,44,1],[47,0,47,8],[32,0,32,8],[33,0,33,8],[34,0,34,8],[20,6,20,7],[36,0,36,1],[36,3,36,5],[36,6,36,7],[25,1,26,1],[27,1,28,1],[31,0,31,8],[22,0,22,1],[23,0,23,1],[17,0,17,7],[18,0,18,7],[20,0,20,1],[20,3,20,5],[16,0,16,7],[1,5,1,7],[8,0,8,1],[3,0,3,7],[4,0,4,1],[7,0,7,1],[5,0,5,1],[1,0,1,3],[5,3,5,5]]}
[null,null,null,null,null,null,null,"申込書７"]
[{"$f":"\"第\"&Facesheet!$B$2&\"回福岡県民スポーツ大会\"","v":"第68回福岡県民スポーツ大会"}]
[]
["柔道競技"]
["郡市名（",null,{"$f":"①役員名簿!$B$7","v":0},"）"]
["【一般】",null,"区","　※福岡市・北九州市は区名を記入"]
[]
[null,null,"氏　名","生年月日","年齢","住　所","在勤地","全柔連登録番号"]
["監　　督",null,null,null,{"$f":"IF(D9=\"\",\"\",DATEDIF(D9,Facesheet!$B$3,\"Y\"))","v":""},null,null,null,null,null,"なし",null,null,null,null,"○"]
["先鋒",null,null,null,{"$f":"IF(D10=\"\",\"\",DATEDIF(D10,Facesheet!$B$3,\"Y\"))","v":""},null,null,null,null,null,"初段"]
["四将",null,null,null,{"$f":"IF(D11=\"\",\"\",DATEDIF(D11,Facesheet!$B$3,\"Y\"))","v":""},null,null,null,null,null,"弐段"]
["中堅",null,null,null,{"$f":"IF(D12=\"\",\"\",DATEDIF(D12,Facesheet!$B$3,\"Y\"))","v":""},null,null,null,null,null,"参段"]
["副将",null,null,null,{"$f":"IF(D13=\"\",\"\",DATEDIF(D13,Facesheet!$B$3,\"Y\"))","v":""},null,null,null,null,null,"四段"]
["大将",null,null,null,{"$f":"IF(D14=\"\",\"\",DATEDIF(D14,Facesheet!$B$3,\"Y\"))","v":""}]
["補欠",null,null,null,{"$f":"IF(D15=\"\",\"\",DATEDIF(D15,Facesheet!$B$3,\"Y\"))","v":""}]
["補欠",null,null,null,{"$f":"IF(D16=\"\",\"\",DATEDIF(D16,Facesheet!$B$3,\"Y\"))","v":""}]
["選手は四段以下の者。在勤地が当該郡市にある者は、在勤地欄に○印を記入のこと。参加は、2025年全日本柔道"]
["連盟に登録した者に限る。全日本柔道連盟登録番号申請中の者は、登録番号欄に「申請中」と記入のこと。"]
["※全柔連登録番号記入例：500123456（←5から始まる9桁）"]
[]
["【青年】",null,"区","　※福岡市・北九州市は区名を記入",null,null,"５人制",null,"A"]
[]
[null,null,"氏　名","生年月日","年齢","住　所","在勤地","全柔連登録番号","学生"]
["監　督",null,null,null,{"$f":"IF(D24=\"\",\"\",DATEDIF(D24,Facesheet!$B$3,\"Y\"))","v":""}]
["先鋒","73kg以下",null,null,{"$f":"IF(D25=\"\",\"\",DATEDIF(D25,Facesheet!$B$3,\"Y\"))","v":""}]
["四将","90kg以下",null,null,{"$f":"IF(D26=\"\",\"\",DATEDIF(D26,Facesheet!$B$3,\"Y\"))","v":""}]
["中堅",null,null,null,{"$f":"IF(D27=\"\",\"\",DATEDIF(D27,Facesheet!$B$3,\"Y\"))","v":""}]
["副将","無差別",null,null,{"$f":"IF(D28=\"\",\"\",DATEDIF(D28,Facesheet!$B$3,\"Y\"))","v":""}]
["大将",null,null,null,{"$f":"IF(D29=\"\",\"\",DATEDIF(D29,Facesheet!$B$3,\"Y\"))","v":""}]
["補欠",null,null,null,{"$f":"IF(D30=\"\",\"\",DATEDIF(D30,Facesheet!$B$3,\"Y\"))","v":""}]
["補欠",null,null,null,{"$f":"IF(D31=\"\",\"\",DATEDIF(D31,Facesheet!$B$3,\"Y\"))","v":""}]
["選手は40歳以下の者。オーバーエイジ枠(2名)を認める。学生・生徒に該当する者は、学生欄に○印を記入(2名以内)。"]
["在勤地が当該郡市にある者は、在勤地欄に○印を記入のこと。参加は、2025年全日本柔道連盟に登録した者に限る。"]
["全日本柔道連盟登録番号申請中の者は、登録番号欄に「申請中」と記入のこと。"]
["※全柔連登録番号記入例：500123456（←5から始まる9桁）"]
[]
["【青年】",null,"区","　※福岡市・北九州市は区名を記入",null,null,"５人制",null,"B"]
[]
[null,null,"氏　名","生年月日","年齢","住　所","在勤地","全柔連登録番号","学生"]
["監　督",null,null,null,{"$f":"IF(D40=\"\",\"\",DATEDIF(D40,Facesheet!$B$3,\"Y\"))","v":""}]
["先鋒","73kg以下",null,null,{"$f":"IF(D41=\"\",\"\",DATEDIF(D41,Facesheet!$B$3,\"Y\"))","v":""}]
["四将","90kg以下",null,null,{"$f":"IF(D42=\"\",\"\",DATEDIF(D42,Facesheet!$B$3,\"Y\"))","v":""}]
["中堅",null,null,null,{"$f":"IF(D43=\"\",\"\",DATEDIF(D43,Facesheet!$B$3,\"Y\"))","v":""}]
["副将","無差別",null,null,{"$f":"IF(D44=\"\",\"\",DATEDIF(D44,Facesheet!$B$3,\"Y\"))","v":""}]
["大将",null,null,null,{"$f":"IF(D45=\"\",\"\",DATEDIF(D45,Facesheet!$B$3,\"Y\"))","v":""}]
["補欠",null,null,null,{"$f":"IF(D46=\"\",\"\",DATEDIF(D46,Facesheet!$B$3,\"Y\"))","v":""}]
["補欠",null,null,null,{"$f":"IF(D47=\"\",\"\",DATEDIF(D47,Facesheet!$B$3,\"Y\"))","v":""}]
[]
[]
["【青年】",null,"区","　※福岡市・北九州市は区名を記入",null,null,"３人制",null,"A"]
[]
[null,null,"氏　名","生年月日","年齢","住　所","在勤地","全柔連登録番号","学生"]
["監　督",null,null,null,{"$f":"IF(D53=\"\",\"\",DATEDIF(D53,Facesheet!$B$3,\"Y\"))","v":""}]
["先鋒","73kg以下",null,null,{"$f":"IF(D54=\"\",\"\",DATEDIF(D54,Facesheet!$B$3,\"Y\"))","v":""}]
["中堅","90kg以下",null,null,{"$f":"IF(D55=\"\",\"\",DATEDIF(D55,Facesheet!$B$3,\"Y\"))","v":""}]
["大将","無差別",null,null,{"$f":"IF(D56=\"\",\"\",DATEDIF(D56,Facesheet!$B$3,\"Y\"))","v":""}]
["補欠",null,null,null,{"$f":"IF(D57=\"\",\"\",DATEDIF(D57,Facesheet!$B$3,\"Y\"))","v":""}]
["選手は40歳以下の者。オーバーエイジ枠(1名)を認める。学生・生徒に該当する者は、学生欄に○印を記入(1名以内)。"]
["在勤地が当該郡市にある者は、在勤地欄に○印を記入のこと。参加は、2025年全日本柔道連盟に登録した者に限る。"]
["全日本柔道連盟登録番号申請中の者は、登録番号欄に「申請中」と記入のこと。"]
["※全柔連登録番号記入例：500123456（←5から始まる9桁）"]
[]
["【青年】",null,"区","　※福岡市・北九州市は区名を記入",null,null,"３人制",null,"B"]
[]
[null,null,"氏　名","生年月日","年齢","住　所","在勤地","全柔連登録番号","学生"]
["監　督",null,null,null,{"$f":"IF(D66=\"\",\"\",DATEDIF(D66,Facesheet!$B$3,\"Y\"))","v":""}]
["先鋒","73kg以下",null,null,{"$f":"IF(D67=\"\",\"\",DATEDIF(D67,Facesheet!$B$3,\"Y\"))","v":""}]
["中堅","90kg以下",null,null,{"$f":"IF(D68=\"\",\"\",DATEDIF(D68,Facesheet!$B$3,\"Y\"))","v":""}]
["大将","無差別",null,null,{"$f":"IF(D69=\"\",\"\",DATEDIF(D69,Facesheet!$B$3,\"Y\"))","v":""}]
["補欠",null,null,null,{"$f":"IF(D70=\"\",\"\",DATEDIF(D70,Facesheet!$B$3,\"Y\"))","v":""}]

{"sheet":"8.剣道","index":16,"n_rows":44,"n_cols":7,"rows_kept":44,"cut":false,"hidden":false,"merged":[[1,0,1,3],[5,3,5,5],[8,0,8,1],[3,0,3,5],[4,0,4,1],[7,0,7,1],[5,0,5,1],[16,0,16,1],[16,3,16,5],[18,0,18,1],[19,0,19,1],[20,0,20,1],[32,0,32,1],[33,0,33,1],[14,0,14,6],[34,0,34,6],[36,0,36,1],[36,3,36,5],[27,0,27,1],[28,0,28,1],[29,0,29,1],[30,0,30,1],[31,0,31,1],[21,0,21,1],[22,0,22,1],[23,0,23,5],[25,0,25,1],[25,3,25,5],[43,0,43,6],[38,0,38,1],[39,0,39,1],[40,0,40,1],[41,0,41,1],[42,0,42,1]]}
[null,null,null,null,null,"申込書８"]
[{"$f":"\"第\"&Facesheet!$B$2&\"回福岡県民スポーツ大会\"","v":"第68回福岡県民スポーツ大会"}]
[]
["剣道競技"]
["郡市名（",null,{"$f":"①役員名簿!$B$7","v":0},"）"]
["【一般男子】",null,"区","　※福岡市・北九州市は区名を記入"]
[]
[null,null,"氏　名","生年月日","年齢","住所"]
["監　　督",null,null,null,{"$f":"IF(D9=\"\",\"\",DATEDIF(D9,Facesheet!$B$4,\"Y\"))","v":""}]
["先鋒","25歳以下",null,null,{"$f":"IF(D10=\"\",\"\",DATEDIF(D10,Facesheet!$B$4,\"Y\"))","v":""}]
["次峰","26歳以上\n35歳以下",null,null,{"$f":"IF(D11=\"\",\"\",DATEDIF(D11,Facesheet!$B$4,\"Y\"))","v":""}]
["中堅","36歳以上\n45歳以下",null,null,{"$f":"IF(D12=\"\",\"\",DATEDIF(D12,Facesheet!$B$4,\"Y\"))","v":""}]
["副将","46歳以上\n54歳以下",null,null,{"$f":"IF(D13=\"\",\"\",DATEDIF(D13,Facesheet!$B$4,\"Y\"))","v":""}]
["大将","55歳以上",null,null,{"$f":"IF(D14=\"\",\"\",DATEDIF(D14,Facesheet!$B$4,\"Y\"))","v":""}]
["当該年齢者がいない場合、上の年齢者を充当しても良い。年齢は、申込締切日（令和7年7月29日）の年齢とする。"]
[]
["【一般女子】",null,"区","　※福岡市・北九州市は区名を記入"]
[]
[null,null,"氏　名","生年月日","年齢","住所"]
["監　督",null,null,null,{"$f":"IF(D20=\"\",\"\",DATEDIF(D20,Facesheet!$B$4,\"Y\"))","v":""}]
["先　鋒",null,null,null,{"$f":"IF(D21=\"\",\"\",DATEDIF(D21,Facesheet!$B$4,\"Y\"))","v":""}]
["中　堅",null,null,null,{"$f":"IF(D22=\"\",\"\",DATEDIF(D22,Facesheet!$B$4,\"Y\"))","v":""}]
["大　将\n(40歳以上)",null,null,null,{"$f":"IF(D23=\"\",\"\",DATEDIF(D23,Facesheet!$B$4,\"Y\"))","v":""}]
["大将は、40歳以上の者。年齢は、申込締切日（令和7年7月29日）の年齢とする。"]
[]
["【青年男子】",null,"区","　※福岡市・北九州市は区名を記入"]
[]
[null,null,"氏　名","生年月日","年齢","住　所","学生"]
["監　督",null,null,null,{"$f":"IF(D29=\"\",\"\",DATEDIF(D29,Facesheet!$B$4,\"Y\"))","v":""}]
["先　鋒",null,null,null,{"$f":"IF(D30=\"\",\"\",DATEDIF(D30,Facesheet!$B$4,\"Y\"))","v":""}]
["次　鋒",null,null,null,{"$f":"IF(D31=\"\",\"\",DATEDIF(D31,Facesheet!$B$4,\"Y\"))","v":""}]
["中　堅",null,null,null,{"$f":"IF(D32=\"\",\"\",DATEDIF(D32,Facesheet!$B$4,\"Y\"))","v":""}]
["副　将",null,null,null,{"$f":"IF(D33=\"\",\"\",DATEDIF(D33,Facesheet!$B$4,\"Y\"))","v":""}]
["大　将\n(30歳代)",null,null,null,{"$f":"IF(D34=\"\",\"\",DATEDIF(D34,Facesheet!$B$4,\"Y\"))","v":""}]
["選手は、35歳以下の者。大将は、30歳代の者。学生・生徒に該当する選手は、学生欄に○印を記入(2名以内)。"]
[]
["【青年女子】",null,"区","　※福岡市・北九州市は区名を記入"]
[]
[null,null,"氏　名","生年月日","年齢","住　所","学生"]
["監　督",null,null,null,{"$f":"IF(D40=\"\",\"\",DATEDIF(D40,Facesheet!$B$4,\"Y\"))","v":""}]
["先　鋒",null,null,null,{"$f":"IF(D41=\"\",\"\",DATEDIF(D41,Facesheet!$B$4,\"Y\"))","v":""}]
["中　堅",null,null,null,{"$f":"IF(D42=\"\",\"\",DATEDIF(D42,Facesheet!$B$4,\"Y\"))","v":""}]
["大　将",null,null,null,{"$f":"IF(D43=\"\",\"\",DATEDIF(D43,Facesheet!$B$4,\"Y\"))","v":""}]
["選手は、35歳以下の者。学生・生徒に該当する選手は、学生欄に○印を記入(1名以内)。"]

{"sheet":"9.弓道","index":17,"n_rows":35,"n_cols":7,"rows_kept":35,"cut":false,"hidden":false,"merged":[[3,0,3,5],[6,3,6,5],[1,0,1,2],[5,2,5,5],[34,0,34,6],[13,0,13,5],[15,2,15,5],[23,0,23,5],[25,2,25,5],[33,0,33,6]]}
[null,null,null,null,null,"申込書９"]
[{"$f":"\"第\"&Facesheet!$B$2&\"回福岡県民スポーツ大会\"","v":"第68回福岡県民スポーツ大会"}]
[]
["弓道競技"]
["郡市名（",{"$f":"①役員名簿!$B$7","v":0},")"]
["【一般男子】","区","　※福岡市・北九州市は区名を記入"]
[null,null,null,"　"]
[null,"氏　名","段級","生年月日","年齢","住　所"]
["監　督",null,null,null,{"$f":"IF(D9=\"\",\"\",DATEDIF(D9,Facesheet!$B$3,\"Y\"))","v":""}]
["選　手",null,null,null,{"$f":"IF(D10=\"\",\"\",DATEDIF(D10,Facesheet!$B$3,\"Y\"))","v":""}]
["選　手",null,null,null,{"$f":"IF(D11=\"\",\"\",DATEDIF(D11,Facesheet!$B$3,\"Y\"))","v":""}]
["選　手",null,null,null,{"$f":"IF(D12=\"\",\"\",DATEDIF(D12,Facesheet!$B$3,\"Y\"))","v":""}]
["補　欠",null,null,null,{"$f":"IF(D13=\"\",\"\",DATEDIF(D13,Facesheet!$B$3,\"Y\"))","v":""}]
["選手は、30歳以上の者。ただし、30歳未満の者は1名まで参加できる。段級は漢数字で記入。"]
[]
["【一般女子】","区","　※福岡市・北九州市は区名を記入"]
[]
[null,"氏　名","段級","生年月日","年齢","住　所"]
["監　督",null,null,null,{"$f":"IF(D19=\"\",\"\",DATEDIF(D19,Facesheet!$B$3,\"Y\"))","v":""}]
["選　手",null,null,null,{"$f":"IF(D20=\"\",\"\",DATEDIF(D20,Facesheet!$B$3,\"Y\"))","v":""}]
["選　手",null,null,null,{"$f":"IF(D21=\"\",\"\",DATEDIF(D21,Facesheet!$B$3,\"Y\"))","v":""}]
["選　手",null,null,null,{"$f":"IF(D22=\"\",\"\",DATEDIF(D22,Facesheet!$B$3,\"Y\"))","v":""}]
["補　欠",null,null,null,{"$f":"IF(D23=\"\",\"\",DATEDIF(D23,Facesheet!$B$3,\"Y\"))","v":""}]
["段級は漢数字で記入。"]
[]
["【青年】","区","　※福岡市・北九州市は区名を記入"]
[]
[null,"氏　名","段級","生年月日","年齢","住　所","学生"]
["監　督",null,null,null,{"$f":"IF(D29=\"\",\"\",DATEDIF(D29,Facesheet!$B$3,\"Y\"))","v":""}]
["選　手",null,null,null,{"$f":"IF(D30=\"\",\"\",DATEDIF(D30,Facesheet!$B$3,\"Y\"))","v":""}]
["選　手",null,null,null,{"$f":"IF(D31=\"\",\"\",DATEDIF(D31,Facesheet!$B$3,\"Y\"))","v":""}]
["選　手",null,null,null,{"$f":"IF(D32=\"\",\"\",DATEDIF(D32,Facesheet!$B$3,\"Y\"))","v":""}]
["補　欠",null,null,null,{"$f":"IF(D33=\"\",\"\",DATEDIF(D33,Facesheet!$B$3,\"Y\"))","v":""}]
["選手は、40歳以下の者。男子のみ、女子のみ、男女混合のいずれでも可。段級は漢数字で記入。"]
["学生・生徒に該当する選手は、学生欄に○印を記入(1名以内)。"]

{"sheet":"相撲　名簿","index":18,"n_rows":31,"n_cols":6,"rows_kept":31,"cut":false,"hidden":true,"merged":[]}
[]
[]
[]
[]
[null,null,{"$f":"'10.相撲'!B9","v":0},{"$f":"IF('10.相撲'!B9=\"\", \"\", '10.相撲'!B9)","v":""}]
[null,null,{"$f":"'10.相撲'!B10","v":0},{"$f":"IF('10.相撲'!B10=\"\", \"\", '10.相撲'!B10)","v":""},null,"B1: =IF('10.相撲'!B9=\"\", \"\", '10.相撲'!B9)"]
[null,null,{"$f":"'10.相撲'!B11","v":0},{"$f":"IF('10.相撲'!B11=\"\", \"\", '10.相撲'!B11)","v":""}]
[null,null,{"$f":"'10.相撲'!B12","v":0},{"$f":"IF('10.相撲'!B12=\"\", \"\", '10.相撲'!B12)","v":""}]
[null,null,{"$f":"'10.相撲'!B13","v":0},{"$f":"IF('10.相撲'!B13=\"\", \"\", '10.相撲'!B13)","v":""}]
[null,null,{"$f":"'10.相撲'!B19","v":0},{"$f":"IF('10.相撲'!B19=\"\", \"\", '10.相撲'!B19)","v":""}]
[null,null,{"$f":"'10.相撲'!B20","v":0},{"$f":"IF('10.相撲'!B20=\"\", \"\", '10.相撲'!B20)","v":""}]
[null,null,{"$f":"'10.相撲'!B21","v":0},{"$f":"IF('10.相撲'!B21=\"\", \"\", '10.相撲'!B21)","v":""}]
[null,null,{"$f":"'10.相撲'!B22","v":0},{"$f":"IF('10.相撲'!B22=\"\", \"\", '10.相撲'!B22)","v":""}]
[null,null,{"$f":"'10.相撲'!B23","v":0},{"$f":"IF('10.相撲'!B23=\"\", \"\", '10.相撲'!B23)","v":""}]
[null,null,{"$f":"'10.相撲'!B28","v":0},{"$f":"IF('10.相撲'!B28=\"\", \"\", '10.相撲'!B28)","v":""}]
[null,null,{"$f":"'10.相撲'!B29","v":0},{"$f":"IF('10.相撲'!B29=\"\", \"\", '10.相撲'!B29)","v":""}]
[null,null,{"$f":"'10.相撲'!B30","v":0},{"$f":"IF('10.相撲'!B30=\"\", \"\", '10.相撲'!B30)","v":""}]
[null,null,{"$f":"'10.相撲'!B31","v":0},{"$f":"IF('10.相撲'!B31=\"\", \"\", '10.相撲'!B31)","v":""}]
[null,null,{"$f":"'10.相撲'!B32","v":0},{"$f":"IF('10.相撲'!B32=\"\", \"\", '10.相撲'!B32)","v":""}]
[null,null,{"$f":"'10.相撲'!B33","v":0},{"$f":"IF('10.相撲'!B33=\"\", \"\", '10.相撲'!B33)","v":""}]
[null,null,{"$f":"'10.相撲'!B34","v":0},{"$f":"IF('10.相撲'!B34=\"\", \"\", '10.相撲'!B34)","v":""}]
[null,null,{"$f":"'10.相撲'!B40","v":0},{"$f":"IF('10.相撲'!B40=\"\", \"\", '10.相撲'!B40)","v":""}]
[null,null,{"$f":"'10.相撲'!B41","v":0},{"$f":"IF('10.相撲'!B41=\"\", \"\", '10.相撲'!B41)","v":""}]
[null,null,{"$f":"'10.相撲'!B42","v":0},{"$f":"IF('10.相撲'!B42=\"\", \"\", '10.相撲'!B42)","v":""}]
[null,null,{"$f":"'10.相撲'!B43","v":0},{"$f":"IF('10.相撲'!B43=\"\", \"\", '10.相撲'!B43)","v":""}]
[null,null,{"$f":"'10.相撲'!B44","v":0},{"$f":"IF('10.相撲'!B44=\"\", \"\", '10.相撲'!B44)","v":""}]
[null,null,{"$f":"'10.相撲'!B45","v":0},{"$f":"IF('10.相撲'!B45=\"\", \"\", '10.相撲'!B45)","v":""}]
[null,null,{"$f":"'10.相撲'!B46","v":0},{"$f":"IF('10.相撲'!B46=\"\", \"\", '10.相撲'!B46)","v":""}]
[null,null,{"$f":"'10.相撲'!B47","v":0},{"$f":"IF('10.相撲'!B47=\"\", \"\", '10.相撲'!B47)","v":""}]
[null,null,{"$f":"'10.相撲'!B48","v":0},{"$f":"IF('10.相撲'!B48=\"\", \"\", '10.相撲'!B48)","v":""}]
[null,null,{"$f":"'10.相撲'!B49","v":0},{"$f":"IF('10.相撲'!B49=\"\", \"\", '10.相撲'!B49)","v":""}]

{"sheet":"10.相撲","index":19,"n_rows":50,"n_cols":11,"rows_kept":50,"cut":false,"hidden":false,"merged":[[34,0,34,6],[35,0,35,6],[49,1,49,5],[3,0,3,5],[1,0,1,2],[13,0,13,5],[23,0,23,5]]}
[null,null,null,null,null,"申込書１０"]
[{"$f":"\"第\"&Facesheet!$B$2&\"回福岡県民スポーツ大会\"","v":"第68回福岡県民スポーツ大会"}]
[]
["相撲競技"]
["郡市名（",{"$f":"①役員名簿!$B$7","v":0},")"]
["【一般】","A"]
[]
[null,"氏　名","生年月日","年齢","住所","在勤地"]
["監　督",null,null,{"$f":"IF(C9=\"\",\"\",DATEDIF(C9,Facesheet!$B$3,\"Y\"))","v":""}]
["先　鋒",null,null,{"$f":"IF(C10=\"\",\"\",DATEDIF(C10,Facesheet!$B$3,\"Y\"))","v":""}]
["中　堅",null,null,{"$f":"IF(C11=\"\",\"\",DATEDIF(C11,Facesheet!$B$3,\"Y\"))","v":""}]
["大　将",null,null,{"$f":"IF(C12=\"\",\"\",DATEDIF(C12,Facesheet!$B$3,\"Y\"))","v":""},null,null,null,null,null,null,"○"]
["交代選手",null,null,{"$f":"IF(C13=\"\",\"\",DATEDIF(C13,Facesheet!$B$3,\"Y\"))","v":""}]
["在勤地が当該郡市にある者は、在勤地欄に○印を記入。"]
[]
["【一般】","B"]
[]
[null,"氏　名","生年月日","年齢","住所","在勤地"]
["監　督",null,null,{"$f":"IF(C19=\"\",\"\",DATEDIF(C19,Facesheet!$B$3,\"Y\"))","v":""}]
["先　鋒",null,null,{"$f":"IF(C20=\"\",\"\",DATEDIF(C20,Facesheet!$B$3,\"Y\"))","v":""}]
["中　堅",null,null,{"$f":"IF(C21=\"\",\"\",DATEDIF(C21,Facesheet!$B$3,\"Y\"))","v":""}]
["大　将",null,null,{"$f":"IF(C22=\"\",\"\",DATEDIF(C22,Facesheet!$B$3,\"Y\"))","v":""}]
["交代選手",null,null,{"$f":"IF(C23=\"\",\"\",DATEDIF(C23,Facesheet!$B$3,\"Y\"))","v":""}]
["在勤地が当該郡市にある者は、在勤地欄に○印を記入。"]
[]
["【青年】"]
[null,"氏　名","生年月日","年齢","住所","在勤地","学生"]
["監　督",null,null,{"$f":"IF(C28=\"\",\"\",DATEDIF(C28,Facesheet!$B$3,\"Y\"))","v":""}]
["先　鋒",null,null,{"$f":"IF(C29=\"\",\"\",DATEDIF(C29,Facesheet!$B$3,\"Y\"))","v":""}]
["次　鋒",null,null,{"$f":"IF(C30=\"\",\"\",DATEDIF(C30,Facesheet!$B$3,\"Y\"))","v":""}]
["中　堅",null,null,{"$f":"IF(C31=\"\",\"\",DATEDIF(C31,Facesheet!$B$3,\"Y\"))","v":""}]
["副　将",null,null,{"$f":"IF(C32=\"\",\"\",DATEDIF(C32,Facesheet!$B$3,\"Y\"))","v":""}]
["大　将",null,null,{"$f":"IF(C33=\"\",\"\",DATEDIF(C33,Facesheet!$B$3,\"Y\"))","v":""}]
["交代選手",null,null,{"$f":"IF(C34=\"\",\"\",DATEDIF(C34,Facesheet!$B$3,\"Y\"))","v":""}]
["選手は、40歳以下の者。在勤地が当該郡市にある者は、在勤地欄に○印を記入。"]
["学生・生徒に該当する選手は学生欄に○印を記入(2名以内)。"]
[]
[null,"【個人戦】"]
[null,"氏　名","生年月日","年齢","住　所","在勤地"]
[null,null,null,{"$f":"IF(C40=\"\",\"\",DATEDIF(C40,Facesheet!$B$3,\"Y\"))","v":""}]
[null,null,null,{"$f":"IF(C41=\"\",\"\",DATEDIF(C41,Facesheet!$B$3,\"Y\"))","v":""}]
[null,null,null,{"$f":"IF(C42=\"\",\"\",DATEDIF(C42,Facesheet!$B$3,\"Y\"))","v":""}]
[null,null,null,{"$f":"IF(C43=\"\",\"\",DATEDIF(C43,Facesheet!$B$3,\"Y\"))","v":""}]
[null,null,null,{"$f":"IF(C44=\"\",\"\",DATEDIF(C44,Facesheet!$B$3,\"Y\"))","v":""}]
[null,null,null,{"$f":"IF(C45=\"\",\"\",DATEDIF(C45,Facesheet!$B$3,\"Y\"))","v":""}]
[null,null,null,{"$f":"IF(C46=\"\",\"\",DATEDIF(C46,Facesheet!$B$3,\"Y\"))","v":""}]
[null,null,null,{"$f":"IF(C47=\"\",\"\",DATEDIF(C47,Facesheet!$B$3,\"Y\"))","v":""}]
[null,null,null,{"$f":"IF(C48=\"\",\"\",DATEDIF(C48,Facesheet!$B$3,\"Y\"))","v":""}]
[null,null,null,{"$f":"IF(C49=\"\",\"\",DATEDIF(C49,Facesheet!$B$3,\"Y\"))","v":""}]
[null,"在勤地が当該郡市にある者は、在勤地欄に○印を記入。"]

{"sheet":"11.ソフトボール","index":20,"n_rows":27,"n_cols":6,"rows_kept":27,"cut":false,"hidden":false,"merged":[[3,0,3,5],[5,0,5,1],[1,0,1,3],[26,0,26,5],[5,3,5,5]]}
[null,null,null,null,null,"申込書１１"]
[{"$f":"\"第\"&Facesheet!$B$2&\"回福岡県民スポーツ大会\"","v":"第68回福岡県民スポーツ大会"}]
[]
["ソフトボール競技"]
["郡市名","（",{"$f":"①役員名簿!$B$7","v":0},"）"]
["【一般】",null,"区","　※福岡市・北九州市は区名を記入"]
[]
[null,"番号","氏　名","生年月日","年齢","住　所"]
["監　督",null,null,null,{"$f":"IF(D9=\"\",\"\",DATEDIF(D9,Facesheet!$B$3,\"Y\"))","v":""}]
["選　手",null,null,null,{"$f":"IF(D10=\"\",\"\",DATEDIF(D10,Facesheet!$B$3,\"Y\"))","v":""}]
["選　手",null,null,null,{"$f":"IF(D11=\"\",\"\",DATEDIF(D11,Facesheet!$B$3,\"Y\"))","v":""}]
["選　手",null,null,null,{"$f":"IF(D12=\"\",\"\",DATEDIF(D12,Facesheet!$B$3,\"Y\"))","v":""}]
["選　手",null,null,null,{"$f":"IF(D13=\"\",\"\",DATEDIF(D13,Facesheet!$B$3,\"Y\"))","v":""}]
["選　手",null,null,null,{"$f":"IF(D14=\"\",\"\",DATEDIF(D14,Facesheet!$B$3,\"Y\"))","v":""}]
["選　手",null,null,null,{"$f":"IF(D15=\"\",\"\",DATEDIF(D15,Facesheet!$B$3,\"Y\"))","v":""}]
["選　手",null,null,null,{"$f":"IF(D16=\"\",\"\",DATEDIF(D16,Facesheet!$B$3,\"Y\"))","v":""}]
["選　手",null,null,null,{"$f":"IF(D17=\"\",\"\",DATEDIF(D17,Facesheet!$B$3,\"Y\"))","v":""}]
["選　手",null,null,null,{"$f":"IF(D18=\"\",\"\",DATEDIF(D18,Facesheet!$B$3,\"Y\"))","v":""}]
["選　手",null,null,null,{"$f":"IF(D19=\"\",\"\",DATEDIF(D19,Facesheet!$B$3,\"Y\"))","v":""}]
["選　手",null,null,null,{"$f":"IF(D20=\"\",\"\",DATEDIF(D20,Facesheet!$B$3,\"Y\"))","v":""}]
["選　手",null,null,null,{"$f":"IF(D21=\"\",\"\",DATEDIF(D21,Facesheet!$B$3,\"Y\"))","v":""}]
["選　手",null,null,null,{"$f":"IF(D22=\"\",\"\",DATEDIF(D22,Facesheet!$B$3,\"Y\"))","v":""}]
["選　手",null,null,null,{"$f":"IF(D23=\"\",\"\",DATEDIF(D23,Facesheet!$B$3,\"Y\"))","v":""}]
["選　手",null,null,null,{"$f":"IF(D24=\"\",\"\",DATEDIF(D24,Facesheet!$B$3,\"Y\"))","v":""}]
["選　手",null,null,null,{"$f":"IF(D25=\"\",\"\",DATEDIF(D25,Facesheet!$B$3,\"Y\"))","v":""}]
["選　手",null,null,null,{"$f":"IF(D26=\"\",\"\",DATEDIF(D26,Facesheet!$B$3,\"Y\"))","v":""}]
["選手は、40歳以上の者。"]

{"sheet":"12.空手道","index":21,"n_rows":107,"n_cols":8,"rows_kept":107,"cut":false,"hidden":false,"merged":[[28,0,28,1],[37,0,37,6],[16,3,16,4],[5,0,5,1],[16,0,16,1],[25,0,25,6],[26,0,26,6],[1,0,1,3],[5,3,5,5],[13,0,13,6],[14,0,14,6],[3,0,3,7],[38,0,38,6],[40,0,40,1],[49,0,49,6],[51,0,51,1],[60,0,60,6],[62,0,62,1],[71,0,71,6],[72,0,72,6],[74,0,74,1],[83,0,83,6],[84,0,84,6],[86,0,86,1],[95,0,95,6],[97,0,97,1],[106,0,106,6]]}
[null,null,null,null,null,null,null,"申込書１２"]
[{"$f":"\"第\"&Facesheet!$B$2&\"回福岡県民スポーツ大会\"","v":"第68回福岡県民スポーツ大会"}]
[]
["空手道競技"]
["郡市名（",{"$f":"①役員名簿!$B$7","v":0},")"]
["【男子団体組手】",null,"区","　※福岡市・北九州市は区名を記入"]
[]
[null,"氏名","生年月日","年齢","学生","住　所","道場名","在勤地"]
["監督",null,null,{"$f":"IF(C9=\"\",\"\",DATEDIF(C9,Facesheet!$B$3,\"Y\"))","v":""}]
["選手",null,null,{"$f":"IF(C10=\"\",\"\",DATEDIF(C10,Facesheet!$B$3,\"Y\"))","v":""}]
["選手",null,null,{"$f":"IF(C11=\"\",\"\",DATEDIF(C11,Facesheet!$B$3,\"Y\"))","v":""}]
["選手",null,null,{"$f":"IF(C12=\"\",\"\",DATEDIF(C12,Facesheet!$B$3,\"Y\"))","v":""}]
["補欠",null,null,{"$f":"IF(C13=\"\",\"\",DATEDIF(C13,Facesheet!$B$3,\"Y\"))","v":""}]
["選手は、18歳以上の者(高校生不可)。学生・生徒に該当する選手は、学生欄に○印を記入。"]
["在勤地が当該郡市にある者は、在勤地欄に○印を記入。"]
[]
["【一般男子組手】"]
[]
[null,"氏名","生年月日","年齢","学生","住　所","道場名","在勤地"]
["監督",null,null,{"$f":"IF(C20=\"\",\"\",DATEDIF(C20,Facesheet!$B$3,\"Y\"))","v":""}]
["選手",null,null,{"$f":"IF(C21=\"\",\"\",DATEDIF(C21,Facesheet!$B$3,\"Y\"))","v":""}]
["選手",null,null,{"$f":"IF(C22=\"\",\"\",DATEDIF(C22,Facesheet!$B$3,\"Y\"))","v":""}]
["選手",null,null,{"$f":"IF(C23=\"\",\"\",DATEDIF(C23,Facesheet!$B$3,\"Y\"))","v":""}]
["選手",null,null,{"$f":"IF(C24=\"\",\"\",DATEDIF(C24,Facesheet!$B$3,\"Y\"))","v":""}]
["選手",null,null,{"$f":"IF(C25=\"\",\"\",DATEDIF(C25,Facesheet!$B$3,\"Y\"))","v":""}]
["選手は、18歳以上の者(高校生不可)。学生・生徒に該当する選手は、学生欄に○印を記入。"]
["在勤地が当該郡市にある者は、在勤地欄に○印を記入。"]
[]
["【一般男子形】"]
[]
[null,"氏名","生年月日","年齢","学生","住　所","道場名","在勤地"]
["監督",null,null,{"$f":"IF(C32=\"\",\"\",DATEDIF(C32,Facesheet!$B$3,\"Y\"))","v":""}]
["選手",null,null,{"$f":"IF(C33=\"\",\"\",DATEDIF(C33,Facesheet!$B$3,\"Y\"))","v":""}]
["選手",null,null,{"$f":"IF(C34=\"\",\"\",DATEDIF(C34,Facesheet!$B$3,\"Y\"))","v":""}]
["選手",null,null,{"$f":"IF(C35=\"\",\"\",DATEDIF(C35,Facesheet!$B$3,\"Y\"))","v":""}]
["選手",null,null,{"$f":"IF(C36=\"\",\"\",DATEDIF(C36,Facesheet!$B$3,\"Y\"))","v":""}]
["選手",null,null,{"$f":"IF(C37=\"\",\"\",DATEDIF(C37,Facesheet!$B$3,\"Y\"))","v":""}]
["学生・生徒に該当する選手は、学生欄に○印を記入。"]
["在勤地が当該郡市にある者は、在勤地欄に○印を記入。"]
[]
["【壮年男子組手】"]
[]
[null,"氏名","生年月日","年齢","在勤地","住　所","道場名"]
["監督",null,null,{"$f":"IF(C44=\"\",\"\",DATEDIF(C44,Facesheet!$B$3,\"Y\"))","v":""}]
["選手",null,null,{"$f":"IF(C45=\"\",\"\",DATEDIF(C45,Facesheet!$B$3,\"Y\"))","v":""}]
["選手",null,null,{"$f":"IF(C46=\"\",\"\",DATEDIF(C46,Facesheet!$B$3,\"Y\"))","v":""}]
["選手",null,null,{"$f":"IF(C47=\"\",\"\",DATEDIF(C47,Facesheet!$B$3,\"Y\"))","v":""}]
["選手",null,null,{"$f":"IF(C48=\"\",\"\",DATEDIF(C48,Facesheet!$B$3,\"Y\"))","v":""}]
["選手",null,null,{"$f":"IF(C49=\"\",\"\",DATEDIF(C49,Facesheet!$B$3,\"Y\"))","v":""}]
["選手は、35歳以上の者。在勤地が当該郡市にある者は、在勤地欄に○印を記入。"]
[]
["【壮年男子形】"]
[]
[null,"氏名","生年月日","年齢","在勤地","住　所","道場名"]
["監督",null,null,{"$f":"IF(C55=\"\",\"\",DATEDIF(C55,Facesheet!$B$3,\"Y\"))","v":""}]
["選手",null,null,{"$f":"IF(C56=\"\",\"\",DATEDIF(C56,Facesheet!$B$3,\"Y\"))","v":""}]
["選手",null,null,{"$f":"IF(C57=\"\",\"\",DATEDIF(C57,Facesheet!$B$3,\"Y\"))","v":""}]
["選手",null,null,{"$f":"IF(C58=\"\",\"\",DATEDIF(C58,Facesheet!$B$3,\"Y\"))","v":""}]
["選手",null,null,{"$f":"IF(C59=\"\",\"\",DATEDIF(C59,Facesheet!$B$3,\"Y\"))","v":""}]
["選手",null,null,{"$f":"IF(C60=\"\",\"\",DATEDIF(C60,Facesheet!$B$3,\"Y\"))","v":""}]
["選手は、35歳以上の者。在勤地が当該郡市にある者は、在勤地欄に○印を記入。"]
[]
["【一般女子組手】"]
[]
[null,"氏名","生年月日","年齢","学生","住　所","道場名","在勤地"]
["監督",null,null,{"$f":"IF(C66=\"\",\"\",DATEDIF(C66,Facesheet!$B$3,\"Y\"))","v":""}]
["選手",null,null,{"$f":"IF(C67=\"\",\"\",DATEDIF(C67,Facesheet!$B$3,\"Y\"))","v":""}]
["選手",null,null,{"$f":"IF(C68=\"\",\"\",DATEDIF(C68,Facesheet!$B$3,\"Y\"))","v":""}]
["選手",null,null,{"$f":"IF(C69=\"\",\"\",DATEDIF(C69,Facesheet!$B$3,\"Y\"))","v":""}]
["選手",null,null,{"$f":"IF(C70=\"\",\"\",DATEDIF(C70,Facesheet!$B$3,\"Y\"))","v":""}]
["選手",null,null,{"$f":"IF(C71=\"\",\"\",DATEDIF(C71,Facesheet!$B$3,\"Y\"))","v":""}]
["選手は、18歳以上の者(高校生不可)。学生・生徒に該当する選手は、学生欄に○印を記入。"]
["在勤地が当該郡市にある者は、在勤地欄に○印を記入。"]
[]
["【一般女子形】"]
[]
[null,"氏名","生年月日","年齢","学生","住　所","道場名","在勤地"]
["監督",null,null,{"$f":"IF(C78=\"\",\"\",DATEDIF(C78,Facesheet!$B$3,\"Y\"))","v":""}]
["選手",null,null,{"$f":"IF(C79=\"\",\"\",DATEDIF(C79,Facesheet!$B$3,\"Y\"))","v":""}]
["選手",null,null,{"$f":"IF(C80=\"\",\"\",DATEDIF(C80,Facesheet!$B$3,\"Y\"))","v":""}]
["選手",null,null,{"$f":"IF(C81=\"\",\"\",DATEDIF(C81,Facesheet!$B$3,\"Y\"))","v":""}]
["選手",null,null,{"$f":"IF(C82=\"\",\"\",DATEDIF(C82,Facesheet!$B$3,\"Y\"))","v":""}]
["選手",null,null,{"$f":"IF(C83=\"\",\"\",DATEDIF(C83,Facesheet!$B$3,\"Y\"))","v":""}]
["選手は、18歳以上の者(高校生不可)。学生・生徒に該当する選手は、学生欄に○印を記入。"]
["在勤地が当該郡市にある者は、在勤地欄に○印を記入。"]
[]
["【壮年女子組手】"]
[]
[null,"氏　名","生年月日","年齢","在勤地","住　所","道場名"]
["監督",null,null,{"$f":"IF(C90=\"\",\"\",DATEDIF(C90,Facesheet!$B$3,\"Y\"))","v":""}]
["選手",null,null,{"$f":"IF(C91=\"\",\"\",DATEDIF(C91,Facesheet!$B$3,\"Y\"))","v":""}]
["選手",null,null,{"$f":"IF(C92=\"\",\"\",DATEDIF(C92,Facesheet!$B$3,\"Y\"))","v":""}]
["選手",null,null,{"$f":"IF(C93=\"\",\"\",DATEDIF(C93,Facesheet!$B$3,\"Y\"))","v":""}]
["選手",null,null,{"$f":"IF(C94=\"\",\"\",DATEDIF(C94,Facesheet!$B$3,\"Y\"))","v":""}]
["選手",null,null,{"$f":"IF(C95=\"\",\"\",DATEDIF(C95,Facesheet!$B$3,\"Y\"))","v":""}]
["選手は、30歳以上の者。在勤地が当該郡市にある者は、在勤地欄に○印を記入。"]
[]
["【壮年女子形】"]
[]
[null,"氏　名","生年月日","年齢","在勤地","住　所","道場名"]
["監督",null,null,{"$f":"IF(C101=\"\",\"\",DATEDIF(C101,Facesheet!$B$3,\"Y\"))","v":""}]
["選手",null,null,{"$f":"IF(C102=\"\",\"\",DATEDIF(C102,Facesheet!$B$3,\"Y\"))","v":""}]
["選手",null,null,{"$f":"IF(C103=\"\",\"\",DATEDIF(C103,Facesheet!$B$3,\"Y\"))","v":""}]
["選手",null,null,{"$f":"IF(C104=\"\",\"\",DATEDIF(C104,Facesheet!$B$3,\"Y\"))","v":""}]
["選手",null,null,{"$f":"IF(C105=\"\",\"\",DATEDIF(C105,Facesheet!$B$3,\"Y\"))","v":""}]
["選手",null,null,{"$f":"IF(C106=\"\",\"\",DATEDIF(C106,Facesheet!$B$3,\"Y\"))","v":""}]
["選手は、30歳以上の者。在勤地が当該郡市にある者は、在勤地欄に○印を記入。"]

{"sheet":"空手　名簿","index":22,"n_rows":55,"n_cols":5,"rows_kept":55,"cut":false,"hidden":true,"merged":[]}
[]
[]
[null,null,{"$f":"IF('12.空手道'!B9=\"\", \"\", '12.空手道'!B9)","v":""}]
[null,null,{"$f":"IF('12.空手道'!B10=\"\", \"\", '12.空手道'!B10)","v":""}]
[null,null,{"$f":"IF('12.空手道'!B11=\"\", \"\", '12.空手道'!B11)","v":""},null,"B1: =IF('12.空手道'!B9=\"\", \"\", '12.空手道'!B9)"]
[null,null,{"$f":"IF('12.空手道'!B12=\"\", \"\", '12.空手道'!B12)","v":""},null,"B2: =IF(Sheet2!A2=\"\", \"\", Sheet2!A2)"]
[null,null,{"$f":"IF('12.空手道'!B13=\"\", \"\", '12.空手道'!B13)","v":""},null,"B3: =IF(Sheet2!A3=\"\", \"\", Sheet2!A3)"]
[null,null,{"$f":"IF('12.空手道'!B20=\"\", \"\", '12.空手道'!B20)","v":""},null,"B4: =IF(Sheet2!A5=\"\", \"\", Sheet2!A5)"]
[null,null,{"$f":"IF('12.空手道'!B21=\"\", \"\", '12.空手道'!B21)","v":""},null,"B5: =IF(Sheet2!A6=\"\", \"\", Sheet2!A6)"]
[null,null,{"$f":"IF('12.空手道'!B22=\"\", \"\", '12.空手道'!B22)","v":""},null,"B6: =IF(Sheet2!A7=\"\", \"\", Sheet2!A7)"]
[null,null,{"$f":"IF('12.空手道'!B23=\"\", \"\", '12.空手道'!B23)","v":""}]
[null,null,{"$f":"IF('12.空手道'!B24=\"\", \"\", '12.空手道'!B24)","v":""}]
[null,null,{"$f":"IF('12.空手道'!B25=\"\", \"\", '12.空手道'!B25)","v":""}]
[null,null,{"$f":"IF('12.空手道'!B32=\"\", \"\", '12.空手道'!B32)","v":""}]
[null,null,{"$f":"IF('12.空手道'!B33=\"\", \"\", '12.空手道'!B33)","v":""}]
[null,null,{"$f":"IF('12.空手道'!B34=\"\", \"\", '12.空手道'!B34)","v":""}]
[null,null,{"$f":"IF('12.空手道'!B35=\"\", \"\", '12.空手道'!B35)","v":""}]
[null,null,{"$f":"IF('12.空手道'!B36=\"\", \"\", '12.空手道'!B36)","v":""}]
[null,null,{"$f":"IF('12.空手道'!B37=\"\", \"\", '12.空手道'!B37)","v":""}]
[null,null,{"$f":"IF('12.空手道'!B44=\"\", \"\", '12.空手道'!B44)","v":""}]
[null,null,{"$f":"IF('12.空手道'!B45=\"\", \"\", '12.空手道'!B45)","v":""}]
[null,null,{"$f":"IF('12.空手道'!B46=\"\", \"\", '12.空手道'!B46)","v":""}]
[null,null,{"$f":"IF('12.空手道'!B47=\"\", \"\", '12.空手道'!B47)","v":""}]
[null,null,{"$f":"IF('12.空手道'!B48=\"\", \"\", '12.空手道'!B48)","v":""}]
[null,null,{"$f":"IF('12.空手道'!B49=\"\", \"\", '12.空手道'!B49)","v":""}]
[null,null,{"$f":"IF('12.空手道'!B55=\"\", \"\", '12.空手道'!B55)","v":""}]
[null,null,{"$f":"IF('12.空手道'!B56=\"\", \"\", '12.空手道'!B56)","v":""}]
[null,null,{"$f":"IF('12.空手道'!B57=\"\", \"\", '12.空手道'!B57)","v":""}]
[null,null,{"$f":"IF('12.空手道'!B58=\"\", \"\", '12.空手道'!B58)","v":""}]
[null,null,{"$f":"IF('12.空手道'!B59=\"\", \"\", '12.空手道'!B59)","v":""}]
[null,null,{"$f":"IF('12.空手道'!B60=\"\", \"\", '12.空手道'!B60)","v":""}]
[null,null,{"$f":"IF('12.空手道'!B66=\"\", \"\", '12.空手道'!B66)","v":""}]
[null,null,{"$f":"IF('12.空手道'!B67=\"\", \"\", '12.空手道'!B67)","v":""}]
[null,null,{"$f":"IF('12.空手道'!B68=\"\", \"\", '12.空手道'!B68)","v":""}]
[null,null,{"$f":"IF('12.空手道'!B69=\"\", \"\", '12.空手道'!B69)","v":""}]
[null,null,{"$f":"IF('12.空手道'!B70=\"\", \"\", '12.空手道'!B70)","v":""}]
[null,null,{"$f":"IF('12.空手道'!B71=\"\", \"\", '12.空手道'!B71)","v":""}]
[null,null,{"$f":"IF('12.空手道'!B78=\"\", \"\", '12.空手道'!B78)","v":""}]
[null,null,{"$f":"IF('12.空手道'!B79=\"\", \"\", '12.空手道'!B79)","v":""}]
[null,null,{"$f":"IF('12.空手道'!B80=\"\", \"\", '12.空手道'!B80)","v":""}]
[null,null,{"$f":"IF('12.空手道'!B81=\"\", \"\", '12.空手道'!B81)","v":""}]
[null,null,{"$f":"IF('12.空手道'!B82=\"\", \"\", '12.空手道'!B82)","v":""}]
[null,null,{"$f":"IF('12.空手道'!B83=\"\", \"\", '12.空手道'!B83)","v":""}]
[null,null,{"$f":"IF('12.空手道'!B90=\"\", \"\", '12.空手道'!B90)","v":""}]
[null,null,{"$f":"IF('12.空手道'!B91=\"\", \"\", '12.空手道'!B91)","v":""}]
[null,null,{"$f":"IF('12.空手道'!B92=\"\", \"\", '12.空手道'!B92)","v":""}]
[null,null,{"$f":"IF('12.空手道'!B93=\"\", \"\", '12.空手道'!B93)","v":""}]
[null,null,{"$f":"IF('12.空手道'!B94=\"\", \"\", '12.空手道'!B94)","v":""}]
[null,null,{"$f":"IF('12.空手道'!B95=\"\", \"\", '12.空手道'!B95)","v":""}]
[null,null,{"$f":"IF('12.空手道'!B101=\"\", \"\", '12.空手道'!B101)","v":""}]
[null,null,{"$f":"IF('12.空手道'!B102=\"\", \"\", '12.空手道'!B102)","v":""}]
[null,null,{"$f":"IF('12.空手道'!B103=\"\", \"\", '12.空手道'!B103)","v":""}]
[null,null,{"$f":"IF('12.空手道'!B104=\"\", \"\", '12.空手道'!B104)","v":""}]
[null,null,{"$f":"IF('12.空手道'!B105=\"\", \"\", '12.空手道'!B105)","v":""}]
[null,null,{"$f":"IF('12.空手道'!B106=\"\", \"\", '12.空手道'!B106)","v":""}]

{"sheet":"13.テニス","index":23,"n_rows":18,"n_cols":6,"rows_kept":18,"cut":false,"hidden":false,"merged":[[17,0,17,5],[7,6,16,6],[8,0,8,1],[5,0,5,1],[7,0,7,1],[0,0,0,2],[3,0,3,5],[1,0,1,3],[4,0,4,1]]}
[null,null,null,null,null,"申込書１３"]
[{"$f":"\"第\"&Facesheet!$B$2&\"回福岡県民スポーツ大会\"","v":"第68回福岡県民スポーツ大会"}]
[]
["テニス競技"]
["郡市名　（",null,{"$f":"①役員名簿!$B$7","v":0},")"]
["【一般】"]
[]
[null,null,"氏　　　　名","生年月日","年齢","住　　　　　　　　所"]
["監　督",null,null,null,{"$f":"IF(D9=\"\",\"\",DATEDIF(D9,Facesheet!$B$3,\"Y\"))","v":""}]
["男子","Ａ",null,null,{"$f":"IF(D10=\"\",\"\",DATEDIF(D10,Facesheet!$B$3,\"Y\"))","v":""}]
["男子","Ｂ",null,null,{"$f":"IF(D11=\"\",\"\",DATEDIF(D11,Facesheet!$B$3,\"Y\"))","v":""}]
["男子","C",null,null,{"$f":"IF(D12=\"\",\"\",DATEDIF(D12,Facesheet!$B$3,\"Y\"))","v":""}]
["男子","D",null,null,{"$f":"IF(D13=\"\",\"\",DATEDIF(D13,Facesheet!$B$3,\"Y\"))","v":""}]
["女子","Ａ",null,null,{"$f":"IF(D14=\"\",\"\",DATEDIF(D14,Facesheet!$B$3,\"Y\"))","v":""}]
["女子","Ｂ",null,null,{"$f":"IF(D15=\"\",\"\",DATEDIF(D15,Facesheet!$B$3,\"Y\"))","v":""}]
["女子","C",null,null,{"$f":"IF(D16=\"\",\"\",DATEDIF(D16,Facesheet!$B$3,\"Y\"))","v":""}]
["女子","D",null,null,{"$f":"IF(D17=\"\",\"\",DATEDIF(D17,Facesheet!$B$3,\"Y\"))","v":""}]
["選手の登録は、6名以上8名以内。"]